BEGIN:VCALENDAR
VERSION:2.0
PRODID:-//enfant-bordeaux.fr - ECPv6.15.20//NONSGML v1.0//EN
CALSCALE:GREGORIAN
METHOD:PUBLISH
X-WR-CALNAME:enfant-bordeaux.fr
X-ORIGINAL-URL:https://www.enfant-bordeaux.fr
X-WR-CALDESC:Évènements pour enfant-bordeaux.fr
REFRESH-INTERVAL;VALUE=DURATION:PT1H
X-Robots-Tag:noindex
X-PUBLISHED-TTL:PT1H
BEGIN:VTIMEZONE
TZID:Europe/Paris
BEGIN:DAYLIGHT
TZOFFSETFROM:+0100
TZOFFSETTO:+0200
TZNAME:CEST
DTSTART:20250330T010000
END:DAYLIGHT
BEGIN:STANDARD
TZOFFSETFROM:+0200
TZOFFSETTO:+0100
TZNAME:CET
DTSTART:20251026T010000
END:STANDARD
BEGIN:DAYLIGHT
TZOFFSETFROM:+0100
TZOFFSETTO:+0200
TZNAME:CEST
DTSTART:20260329T010000
END:DAYLIGHT
BEGIN:STANDARD
TZOFFSETFROM:+0200
TZOFFSETTO:+0100
TZNAME:CET
DTSTART:20261025T010000
END:STANDARD
BEGIN:DAYLIGHT
TZOFFSETFROM:+0100
TZOFFSETTO:+0200
TZNAME:CEST
DTSTART:20270328T010000
END:DAYLIGHT
BEGIN:STANDARD
TZOFFSETFROM:+0200
TZOFFSETTO:+0100
TZNAME:CET
DTSTART:20271031T010000
END:STANDARD
END:VTIMEZONE
BEGIN:VEVENT
DTSTART;TZID=Europe/Paris:20260516T080000
DTEND;TZID=Europe/Paris:20260516T170000
DTSTAMP:20260423T135902
CREATED:20260414T151714Z
LAST-MODIFIED:20260414T151714Z
UID:10035843-1778918400-1778950800@www.enfant-bordeaux.fr
SUMMARY:Atelier « Petite étoile » danse et dessin
DESCRIPTION:Naviguons ensemble parmi la nuit étoilée ! Les planètes seront nos alliées et les étoiles nos repères.\nLe but du jeu ? Se mettre en mouvement et dessiner en suivant les cartes d’un parcours étoilé plein de surprises.\nCette pratique créative est accessible à toutes et tous. \n« La conception ludique et graphique du jeu « À la ligne » est réalisée par Bianca Millon-Devigne\, avec Maroussia Sallent pour les photos\, Jul Quanouai pour les motifs graphiques\, la Compagnie Process\, les enseignantes et Lieu-Commun pour la création des contenus pédagogiques et artistiques. »
URL:https://www.enfant-bordeaux.fr/agenda/atelier-petite-etoile-danse-et-dessin-2/2026-05-16/1/
LOCATION:Frac Nouvelle-Aquitaine MÉCA\, La MÉCA 5 parvis Corto Maltese\, Bordeaux\, 33800\, France
CATEGORIES:4-6 ans
ATTACH;FMTTYPE=image/jpeg:https://www.enfant-bordeaux.fr/wp-content/uploads/2026/04/visite-a-petits-pas-3-1-scaled.jpg
ORGANIZER;CN="Frac Nouvelle-Aquitaine M%C3%89CA":MAILTO:reservation@frac-meca.fr
GEO:44.8617399;-0.5538654
X-APPLE-STRUCTURED-LOCATION;VALUE=URI;X-ADDRESS=Frac Nouvelle-Aquitaine MÉCA La MÉCA 5 parvis Corto Maltese Bordeaux 33800 France;X-APPLE-RADIUS=500;X-TITLE=La MÉCA 5 parvis Corto Maltese:geo:-0.5538654,44.8617399
END:VEVENT
BEGIN:VEVENT
DTSTART;TZID=Europe/Paris:20260516T150000
DTEND;TZID=Europe/Paris:20260516T170000
DTSTAMP:20260423T135902
CREATED:20260414T151714Z
LAST-MODIFIED:20260414T151714Z
UID:10035844-1778943600-1778950800@www.enfant-bordeaux.fr
SUMMARY:Atelier « Petite étoile » danse et dessin
DESCRIPTION:Naviguons ensemble parmi la nuit étoilée ! Les planètes seront nos alliées et les étoiles nos repères.\nLe but du jeu ? Se mettre en mouvement et dessiner en suivant les cartes d’un parcours étoilé plein de surprises.\nCette pratique créative est accessible à toutes et tous. \n« La conception ludique et graphique du jeu « À la ligne » est réalisée par Bianca Millon-Devigne\, avec Maroussia Sallent pour les photos\, Jul Quanouai pour les motifs graphiques\, la Compagnie Process\, les enseignantes et Lieu-Commun pour la création des contenus pédagogiques et artistiques. »
URL:https://www.enfant-bordeaux.fr/agenda/atelier-petite-etoile-danse-et-dessin-2/2026-05-16/2/
LOCATION:Frac Nouvelle-Aquitaine MÉCA\, La MÉCA 5 parvis Corto Maltese\, Bordeaux\, 33800\, France
CATEGORIES:4-6 ans
ATTACH;FMTTYPE=image/jpeg:https://www.enfant-bordeaux.fr/wp-content/uploads/2026/04/visite-a-petits-pas-3-1-scaled.jpg
ORGANIZER;CN="Frac Nouvelle-Aquitaine M%C3%89CA":MAILTO:reservation@frac-meca.fr
GEO:44.8617399;-0.5538654
X-APPLE-STRUCTURED-LOCATION;VALUE=URI;X-ADDRESS=Frac Nouvelle-Aquitaine MÉCA La MÉCA 5 parvis Corto Maltese Bordeaux 33800 France;X-APPLE-RADIUS=500;X-TITLE=La MÉCA 5 parvis Corto Maltese:geo:-0.5538654,44.8617399
END:VEVENT
BEGIN:VEVENT
DTSTART;TZID=Europe/Paris:20260627T150000
DTEND;TZID=Europe/Paris:20260627T170000
DTSTAMP:20260423T135902
CREATED:20260414T151714Z
LAST-MODIFIED:20260414T151714Z
UID:10035845-1782572400-1782579600@www.enfant-bordeaux.fr
SUMMARY:Atelier « Petite étoile » danse et dessin
DESCRIPTION:Naviguons ensemble parmi la nuit étoilée ! Les planètes seront nos alliées et les étoiles nos repères.\nLe but du jeu ? Se mettre en mouvement et dessiner en suivant les cartes d’un parcours étoilé plein de surprises.\nCette pratique créative est accessible à toutes et tous. \n« La conception ludique et graphique du jeu « À la ligne » est réalisée par Bianca Millon-Devigne\, avec Maroussia Sallent pour les photos\, Jul Quanouai pour les motifs graphiques\, la Compagnie Process\, les enseignantes et Lieu-Commun pour la création des contenus pédagogiques et artistiques. »
URL:https://www.enfant-bordeaux.fr/agenda/atelier-petite-etoile-danse-et-dessin-2/2026-06-27/
LOCATION:Frac Nouvelle-Aquitaine MÉCA\, La MÉCA 5 parvis Corto Maltese\, Bordeaux\, 33800\, France
CATEGORIES:4-6 ans
ATTACH;FMTTYPE=image/jpeg:https://www.enfant-bordeaux.fr/wp-content/uploads/2026/04/visite-a-petits-pas-3-1-scaled.jpg
ORGANIZER;CN="Frac Nouvelle-Aquitaine M%C3%89CA":MAILTO:reservation@frac-meca.fr
GEO:44.8617399;-0.5538654
X-APPLE-STRUCTURED-LOCATION;VALUE=URI;X-ADDRESS=Frac Nouvelle-Aquitaine MÉCA La MÉCA 5 parvis Corto Maltese Bordeaux 33800 France;X-APPLE-RADIUS=500;X-TITLE=La MÉCA 5 parvis Corto Maltese:geo:-0.5538654,44.8617399
END:VEVENT
END:VCALENDAR