BEGIN:VCALENDAR
VERSION:2.0
PRODID:-//enfant-bordeaux.fr - ECPv6.15.20//NONSGML v1.0//EN
CALSCALE:GREGORIAN
METHOD:PUBLISH
X-ORIGINAL-URL:https://www.enfant-bordeaux.fr
X-WR-CALDESC:Évènements pour enfant-bordeaux.fr
REFRESH-INTERVAL;VALUE=DURATION:PT1H
X-Robots-Tag:noindex
X-PUBLISHED-TTL:PT1H
BEGIN:VTIMEZONE
TZID:Europe/Paris
BEGIN:DAYLIGHT
TZOFFSETFROM:+0100
TZOFFSETTO:+0200
TZNAME:CEST
DTSTART:20250330T010000
END:DAYLIGHT
BEGIN:STANDARD
TZOFFSETFROM:+0200
TZOFFSETTO:+0100
TZNAME:CET
DTSTART:20251026T010000
END:STANDARD
BEGIN:DAYLIGHT
TZOFFSETFROM:+0100
TZOFFSETTO:+0200
TZNAME:CEST
DTSTART:20260329T010000
END:DAYLIGHT
BEGIN:STANDARD
TZOFFSETFROM:+0200
TZOFFSETTO:+0100
TZNAME:CET
DTSTART:20261025T010000
END:STANDARD
BEGIN:DAYLIGHT
TZOFFSETFROM:+0100
TZOFFSETTO:+0200
TZNAME:CEST
DTSTART:20270328T010000
END:DAYLIGHT
BEGIN:STANDARD
TZOFFSETFROM:+0200
TZOFFSETTO:+0100
TZNAME:CET
DTSTART:20271031T010000
END:STANDARD
END:VTIMEZONE
BEGIN:VEVENT
DTSTART;VALUE=DATE:20260407
DTEND;VALUE=DATE:20260417
DTSTAMP:20260425T024849
CREATED:20260326T113902Z
LAST-MODIFIED:20260330T163646Z
UID:10035457-1775572200-1776357000@www.enfant-bordeaux.fr
SUMMARY:Atelier d'initiation découverte de la broderie d'Art à Bordeaux avec Eloïse une artisane d'Art diplômée
DESCRIPTION:du 7 au 16 avril \nUn atelier dans l’univers doux et créatif d’une artisane d’Art diplômée. Éloïse initie les enfants à la broderie d’art à travers un atelier ludique et accessible. Une expérience idéale pour découvrir les gestes du fil tout en développant créativité et patience au sein de l’atelier d’Éloïse: Azuli.e. \nDéroulé de l’atelier \n• Découverte de l’atelier : Éloïse présente son univers\, les outils\, les fils et toutes les couleurs disponibles\, afin de mettre les enfants en confiance avant de commencer. \n• Choix du motif et du support : chaque enfant sélectionne son petit motif et sa palette de couleurs\, puis choisit s’il souhaite broder sur bois ou sur tissu. \n• Réalisation de la broderie : les enfants apprennent à broder au fil ou au ruban\, accompagnés pas à pas par Éloïse. \n• Finitions gourmandes : pendant qu’Éloïse réalise les finitions de chaque création\, les enfants profitent d’un petit goûter convivial. \nÀ la fin de l’atelier\, chaque enfant repart avec une jolie petite broderie prête à être accrochée à la maison\, fièrement réalisée de ses mains. \n\n\nAtelier sur réservation uniquement 2 à 3 places par atelier maximum selon l’âge.\nLes mercredis et pendants les vacances scolaires d’avril du 7 au 16 avril (matin ou après-midi\, je m’adapte à vos disponibilités.)\n40euros les 2h incluant le materiel de boderie et le goûter.\nOffre spéciale 76 euros pour une réservation pour 2 enfants en me contactant.
URL:https://www.enfant-bordeaux.fr/agenda/atelier-dinitiation-decouverte-de-la-broderie-dart-a-bordeaux-avec-eloise-une-artisane-dart-diplomee/
LOCATION:77\, rue reinette 33100 Bordeaux
CATEGORIES:6-12 ans,Enfants
ATTACH;FMTTYPE=image/jpeg:https://www.enfant-bordeaux.fr/wp-content/uploads/2026/03/Decouvre-la-broderie-dArt-avec-un-atelier-dInitiation-1.jpg
ORGANIZER;CN="Azuli.e":MAILTO:contact.azuli.e@gmail.com
END:VEVENT
BEGIN:VEVENT
DTSTART;TZID=Europe/Paris:20260218T143000
DTEND;TZID=Europe/Paris:20260218T163000
DTSTAMP:20260425T024849
CREATED:20260129T141701Z
LAST-MODIFIED:20260129T141847Z
UID:10034832-1771425000-1771432200@www.enfant-bordeaux.fr
SUMMARY:Atelier découverte de la broderie d’Art pour enfant avec une artisane diplômée
DESCRIPTION:Un atelier dans l’univers doux et créatif d’une artisane d’Art diplômée. Éloïse initie les enfants à la broderie d’art à travers un atelier ludique et accessible. Une expérience idéale pour découvrir les gestes du fil tout en développant créativité et patience au sein de l’atelier d’Éloïse: Azuli.e. \nDéroulé de l’atelier \n• Découverte de l’atelier : Éloïse présente son univers\, les outils\, les fils et toutes les couleurs disponibles\, afin de mettre les enfants en confiance avant de commencer. \n• Choix du motif et du support : chaque enfant sélectionne son petit motif et sa palette de couleurs\, puis choisit s’il souhaite broder sur bois ou sur tissu. \n• Réalisation de la broderie : les enfants apprennent à broder au fil ou au ruban\, accompagnés pas à pas par Éloïse. \n• Finitions gourmandes : pendant qu’Éloïse réalise les finitions de chaque création\, les enfants profitent d’un petit goûter convivial. \nÀ la fin de l’atelier\, chaque enfant repart avec une jolie petite broderie prête à être accrochée à la maison\, fièrement réalisée de ses mains. \n\n\nAtelier sur réservation uniquement 2 à 4 places par atelier maximum selon l’âge.\n3 créneaux par semaine pendants les vacances scolaires.\n40euros les 2h incluant le materiel de boderie et le goûter.\nOffre Flash 74euros pour une réservation pour 2 enfants en me contactant.
URL:https://www.enfant-bordeaux.fr/agenda/atelier-decouverte-de-la-broderie-dart-pour-enfant-avec-une-artisane-diplomee/
LOCATION:77\, rue reinette 33100 Bordeaux
CATEGORIES:6-12 ans,Activité pour enfants à Bordeaux et familles
ATTACH;FMTTYPE=image/jpeg:https://www.enfant-bordeaux.fr/wp-content/uploads/2026/01/Decouvre-la-broderie-dArt-avec-un-atelier-dInitiation-2.jpg
ORGANIZER;CN="Azuli.e":MAILTO:contact.azuli.e@gmail.com
END:VEVENT
BEGIN:VEVENT
DTSTART;TZID=Europe/Paris:20260124T143000
DTEND;TZID=Europe/Paris:20260124T163000
DTSTAMP:20260425T024849
CREATED:20260106T151501Z
LAST-MODIFIED:20260106T151501Z
UID:10034032-1769265000-1769272200@www.enfant-bordeaux.fr
SUMMARY:Découvre la broderie d’art et crée ta petite décoration brodée avec Éloïse\, brodeuse d’art\, à Bordeaux
DESCRIPTION:Un atelier dans l’univers doux et créatif d’une artisane d’Art diplômée. Éloïse initie les enfants à la broderie d’art à travers un atelier ludique et accessible. Une expérience idéale pour découvrir les gestes du fil tout en développant créativité et patience au sein de l’atelier d’Éloïse: Azuli.e. \nDéroulé de l’atelier \n• Découverte de l’atelier : Éloïse présente son univers\, les outils\, les fils et toutes les couleurs disponibles\, afin de mettre les enfants en confiance avant de commencer. \n• Choix du motif et du support : chaque enfant sélectionne son petit motif et sa palette de couleurs\, puis choisit s’il souhaite broder sur bois ou sur tissu. \n• Réalisation de la broderie : les enfants apprennent à broder au fil ou au ruban\, accompagnés pas à pas par Éloïse. \n• Finitions gourmandes : pendant qu’Éloïse réalise les finitions de chaque création\, les enfants profitent d’un petit goûter convivial. \nÀ la fin de l’atelier\, chaque enfant repart avec une jolie petite broderie prête à être accrochée à la maison\, fièrement réalisée de ses mains. \n\n\nAtelier sur réservation uniquement 4 places par atelier.\n3 places disponibles le 10 janvier et 3 places disponibles le 24 janvier.\n40euros les 2h incluant le materiel de boderie et le goûter.
URL:https://www.enfant-bordeaux.fr/agenda/decouvre-la-broderie-dart-et-cree-ta-petite-decoration-brodee-avec-eloise-brodeuse-dart-a-bordeaux/2026-01-24/
LOCATION:77\, rue reinette 33100 Bordeaux
CATEGORIES:6-12 ans,Activité pour enfants à Bordeaux et familles
ATTACH;FMTTYPE=image/jpeg:https://www.enfant-bordeaux.fr/wp-content/uploads/2026/01/Decouvre-la-broderie-dArt-avec-un-atelier-dInitiation.jpg
END:VEVENT
END:VCALENDAR