BEGIN:VCALENDAR
VERSION:2.0
PRODID:-//enfant-bordeaux.fr - ECPv6.15.20//NONSGML v1.0//EN
CALSCALE:GREGORIAN
METHOD:PUBLISH
X-WR-CALNAME:enfant-bordeaux.fr
X-ORIGINAL-URL:https://www.enfant-bordeaux.fr
X-WR-CALDESC:Évènements pour enfant-bordeaux.fr
REFRESH-INTERVAL;VALUE=DURATION:PT1H
X-Robots-Tag:noindex
X-PUBLISHED-TTL:PT1H
BEGIN:VTIMEZONE
TZID:Europe/Paris
BEGIN:DAYLIGHT
TZOFFSETFROM:+0100
TZOFFSETTO:+0200
TZNAME:CEST
DTSTART:20250330T010000
END:DAYLIGHT
BEGIN:STANDARD
TZOFFSETFROM:+0200
TZOFFSETTO:+0100
TZNAME:CET
DTSTART:20251026T010000
END:STANDARD
BEGIN:DAYLIGHT
TZOFFSETFROM:+0100
TZOFFSETTO:+0200
TZNAME:CEST
DTSTART:20260329T010000
END:DAYLIGHT
BEGIN:STANDARD
TZOFFSETFROM:+0200
TZOFFSETTO:+0100
TZNAME:CET
DTSTART:20261025T010000
END:STANDARD
BEGIN:DAYLIGHT
TZOFFSETFROM:+0100
TZOFFSETTO:+0200
TZNAME:CEST
DTSTART:20270328T010000
END:DAYLIGHT
BEGIN:STANDARD
TZOFFSETFROM:+0200
TZOFFSETTO:+0100
TZNAME:CET
DTSTART:20271031T010000
END:STANDARD
END:VTIMEZONE
BEGIN:VEVENT
DTSTART;TZID=Europe/Paris:20260304T150000
DTEND;TZID=Europe/Paris:20260304T170000
DTSTAMP:20260425T041101
CREATED:20260226T154641Z
LAST-MODIFIED:20260226T154641Z
UID:10035072-1772636400-1772643600@www.enfant-bordeaux.fr
SUMMARY:Atelier créatif autour de l'univers du Café
DESCRIPTION:Dans le cadre de la Bordeaux Coffee Week\, les kids sont invités pour un temps créatif chez Café BB !\nUn atelier mené par Crayonlamode autour de l’univers du café entre craie grasse et marc de café revalorisé.\n\nCe mercredi 4 mars de 15h à 17h chez Café BB (au rez de chaussée de la Bibliothèque Mériadeck à Bordeaux)\n15€ avec goûter / déposez vos kids quand vous le souhaitez entre 15h & 17h pour 30 min ou 2h !\nPour les kids et les plus grands dès 5 ans.\nInscription par mail sur bonjour.cafe.bb@gmail.com ou sur insta @cafe.bb
URL:https://www.enfant-bordeaux.fr/agenda/atelier-creatif-autour-de-lunivers-du-cafe/
LOCATION:Café BB\, 7 rue Corps Franc Pommiès\, Bordeaux\, 33000
CATEGORIES:4-15 ans
ATTACH;FMTTYPE=image/jpeg:https://www.enfant-bordeaux.fr/wp-content/uploads/2026/02/Atelier-Cafe-BB-Crayonlamode.jpeg
ORGANIZER;CN="Caf%C3%A9 BB":MAILTO:bonjour.cafe.bb@gmail.com
END:VEVENT
END:VCALENDAR