BEGIN:VCALENDAR
VERSION:2.0
PRODID:-//enfant-bordeaux.fr - ECPv6.15.20//NONSGML v1.0//EN
CALSCALE:GREGORIAN
METHOD:PUBLISH
X-WR-CALNAME:enfant-bordeaux.fr
X-ORIGINAL-URL:https://www.enfant-bordeaux.fr
X-WR-CALDESC:Évènements pour enfant-bordeaux.fr
REFRESH-INTERVAL;VALUE=DURATION:PT1H
X-Robots-Tag:noindex
X-PUBLISHED-TTL:PT1H
BEGIN:VTIMEZONE
TZID:Europe/Paris
BEGIN:DAYLIGHT
TZOFFSETFROM:+0100
TZOFFSETTO:+0200
TZNAME:CEST
DTSTART:20250330T010000
END:DAYLIGHT
BEGIN:STANDARD
TZOFFSETFROM:+0200
TZOFFSETTO:+0100
TZNAME:CET
DTSTART:20251026T010000
END:STANDARD
BEGIN:DAYLIGHT
TZOFFSETFROM:+0100
TZOFFSETTO:+0200
TZNAME:CEST
DTSTART:20260329T010000
END:DAYLIGHT
BEGIN:STANDARD
TZOFFSETFROM:+0200
TZOFFSETTO:+0100
TZNAME:CET
DTSTART:20261025T010000
END:STANDARD
BEGIN:DAYLIGHT
TZOFFSETFROM:+0100
TZOFFSETTO:+0200
TZNAME:CEST
DTSTART:20270328T010000
END:DAYLIGHT
BEGIN:STANDARD
TZOFFSETFROM:+0200
TZOFFSETTO:+0100
TZNAME:CET
DTSTART:20271031T010000
END:STANDARD
END:VTIMEZONE
BEGIN:VEVENT
DTSTART;TZID=Europe/Paris:20260425T140000
DTEND;TZID=Europe/Paris:20260426T000000
DTSTAMP:20260423T152609
CREATED:20260420T101722Z
LAST-MODIFIED:20260420T101722Z
UID:10035852-1777125600-1777161600@www.enfant-bordeaux.fr
SUMMARY:Play & Party Ados
DESCRIPTION:Journée spéciale Ados 12 – 17 ans\nSamedi 25 avril 2026\nProgramme :\n=>  A partir de 14h à l’espace Saxon – Espace Vettiner – rue du Bourg \nEscape game  « LE BUREAU DE SHERLOCK » proposé par le célèbre ESCAPE HUNT de Bordeaux.\n Gratuit – Inscription obligatoire auprès de la Ludo-Médiathèque de Bouliac 05 56 94 64 10 ou ludomédiatheque@ville-bouliac.fr. \n=> De 20h30 à minuit à la salle panoramique du centre culturel François Mauriac – rue de l’église \nSoirée Ados animée par un Dj. A partir de la 6ème jusqu’à moins de 18 ans.\nGratuit sur inscription obligatoire sur citymag Bouliac : https://bouliac.citymag.info/agenda/play-party-ados-12-17-ans \nPlaces limitées.=> Autorisation parentale obligatoire complété et signée AVANT l’évènement à retourner au service culturel de Bouliac par mail  culture@ville-bouliac.fr.\n– Aucune inscription le soir de l’évènement.\n– Softs chips et bonbons gratuits\n– Service de sécurité présent pour assurer la soirée et la sécurité.
URL:https://www.enfant-bordeaux.fr/agenda/play-party-ados/
LOCATION:Centre culturel François Mauriac\, Rue de l'église\, Bouliac
CATEGORIES:Plus de 11 ans
ATTACH;FMTTYPE=image/jpeg:https://www.enfant-bordeaux.fr/wp-content/uploads/2026/04/Affiche-Journee-ados_page-0001.jpg
ORGANIZER;CN="Mairie de Bouliac":MAILTO:communication@ville-bouliac.fr
END:VEVENT
END:VCALENDAR