BEGIN:VCALENDAR
VERSION:2.0
PRODID:-//enfant-bordeaux.fr - ECPv6.15.20//NONSGML v1.0//EN
CALSCALE:GREGORIAN
METHOD:PUBLISH
X-ORIGINAL-URL:https://www.enfant-bordeaux.fr
X-WR-CALDESC:Évènements pour enfant-bordeaux.fr
REFRESH-INTERVAL;VALUE=DURATION:PT1H
X-Robots-Tag:noindex
X-PUBLISHED-TTL:PT1H
BEGIN:VTIMEZONE
TZID:Europe/Paris
BEGIN:DAYLIGHT
TZOFFSETFROM:+0100
TZOFFSETTO:+0200
TZNAME:CEST
DTSTART:20250330T010000
END:DAYLIGHT
BEGIN:STANDARD
TZOFFSETFROM:+0200
TZOFFSETTO:+0100
TZNAME:CET
DTSTART:20251026T010000
END:STANDARD
BEGIN:DAYLIGHT
TZOFFSETFROM:+0100
TZOFFSETTO:+0200
TZNAME:CEST
DTSTART:20260329T010000
END:DAYLIGHT
BEGIN:STANDARD
TZOFFSETFROM:+0200
TZOFFSETTO:+0100
TZNAME:CET
DTSTART:20261025T010000
END:STANDARD
BEGIN:DAYLIGHT
TZOFFSETFROM:+0100
TZOFFSETTO:+0200
TZNAME:CEST
DTSTART:20270328T010000
END:DAYLIGHT
BEGIN:STANDARD
TZOFFSETFROM:+0200
TZOFFSETTO:+0100
TZNAME:CET
DTSTART:20271031T010000
END:STANDARD
END:VTIMEZONE
BEGIN:VEVENT
DTSTART;TZID=Europe/Paris:20260415T110000
DTEND;TZID=Europe/Paris:20260415T121500
DTSTAMP:20260425T012607
CREATED:20260316T210642Z
LAST-MODIFIED:20260317T142452Z
UID:10035146-1776250800-1776255300@www.enfant-bordeaux.fr
SUMMARY:baby poney 3-5ans
DESCRIPTION:Les 9 et 15 avril \nStage spécial\, découverte du poney pour les enfants de 3 à 5 ans. \nAu programme :accueil calme et individualisé\, approcher les poneys\, les brosser puis profiter d’une animation ou petite promenade d’environ 30 à 35 minutes en toute complicité. \nAccompagnement : 1 enfant – 1 parent \nStage sur réservation\,  \nLes stages du centre équestre de la Burthe
URL:https://www.enfant-bordeaux.fr/agenda/baby-poney-3-5ans-2/2026-04-15/2/
LOCATION:Centre equestre de la Burthes\, Chemin de la Burthe\, 33270\, Floirac\, 33270\, France
CATEGORIES:3-4 ans
ATTACH;FMTTYPE=image/jpeg:https://www.enfant-bordeaux.fr/wp-content/uploads/2026/03/20190209_170302-scaled.jpg
ORGANIZER;CN="centre equestre de la Burthe":MAILTO:equitationburthe@yahoo.fr
END:VEVENT
BEGIN:VEVENT
DTSTART;TZID=Europe/Paris:20260415T093000
DTEND;TZID=Europe/Paris:20260415T104500
DTSTAMP:20260425T012607
CREATED:20260316T210642Z
LAST-MODIFIED:20260317T142452Z
UID:10035145-1776245400-1776249900@www.enfant-bordeaux.fr
SUMMARY:baby poney 3-5ans
DESCRIPTION:Les 9 et 15 avril \nStage spécial\, découverte du poney pour les enfants de 3 à 5 ans. \nAu programme :accueil calme et individualisé\, approcher les poneys\, les brosser puis profiter d’une animation ou petite promenade d’environ 30 à 35 minutes en toute complicité. \nAccompagnement : 1 enfant – 1 parent \nStage sur réservation\,  \nLes stages du centre équestre de la Burthe
URL:https://www.enfant-bordeaux.fr/agenda/baby-poney-3-5ans-2/2026-04-15/1/
LOCATION:Centre equestre de la Burthes\, Chemin de la Burthe\, 33270\, Floirac\, 33270\, France
CATEGORIES:3-4 ans
ATTACH;FMTTYPE=image/jpeg:https://www.enfant-bordeaux.fr/wp-content/uploads/2026/03/20190209_170302-scaled.jpg
ORGANIZER;CN="centre equestre de la Burthe":MAILTO:equitationburthe@yahoo.fr
END:VEVENT
BEGIN:VEVENT
DTSTART;VALUE=DATE:20260413
DTEND;VALUE=DATE:20260416
DTSTAMP:20260425T012607
CREATED:20260316T205946Z
LAST-MODIFIED:20260320T100348Z
UID:10035166-1776052800-1776225599@www.enfant-bordeaux.fr
SUMMARY:CENTRE ÉQUESTRE DE LA BURTHE : Je découvre le PONEY (6-11 ans) :
DESCRIPTION:Les 13-14 avril \nStage spécial deux jours\, découverte du poney pour les enfants de 6 à 11 ans. \nAu programme : apprendre à communiquer avec les poneys\, apprendre à brosser\, seller\, et un peu de technique pour monter et diriger seul. \nMais aussi\, des jeux de ballon\, équifun\, balade et chasse aux œufs. \nStage sur réservation\, \npenser à prévoir un pique-nique\n140€ les deux jours \nInformation et inscription \nVoir tous les stages du centre équestre de la Burthe
URL:https://www.enfant-bordeaux.fr/agenda/je-decouvre-le-poney-6-11-ans/
LOCATION:Centre equestre de la Burthes\, Chemin de la Burthe\, 33270\, Floirac\, 33270\, France
CATEGORIES:7-11 ans
ATTACH;FMTTYPE=image/jpeg:https://www.enfant-bordeaux.fr/wp-content/uploads/2026/03/20230406_172551-scaled.jpg
ORGANIZER;CN="centre equestre de la Burthe":MAILTO:equitationburthe@yahoo.fr
END:VEVENT
BEGIN:VEVENT
DTSTART;TZID=Europe/Paris:20260411T090000
DTEND;TZID=Europe/Paris:20260411T163000
DTSTAMP:20260425T012607
CREATED:20260320T085505Z
LAST-MODIFIED:20260320T085505Z
UID:10035167-1775898000-1775925000@www.enfant-bordeaux.fr
SUMMARY:CENTRE ÉQUESTRE DE LA BURTHE :  journée carnaval des poneys
DESCRIPTION:Journée carnaval des poneys\nsamedi 11 avril de 9h à 16h30\n \nC’est carnaval pour les animaux aussi ! Viens déguiser les poneys\, défiler et profiter d’un petit parcours l’après-midi.\n> dés 6 ans  \nRDV au Centre équestre de la Burthe  \n35€ la journée \nSur réservation – (amener pique-nique)
URL:https://www.enfant-bordeaux.fr/agenda/centre-equestre-de-la-burthe-journee-carnaval-des-poneys/
LOCATION:Centre equestre de la Burthes\, Chemin de la Burthe\, 33270\, Floirac\, 33270\, France
CATEGORIES:6-12 ans
ATTACH;FMTTYPE=image/jpeg:https://www.enfant-bordeaux.fr/wp-content/uploads/2026/03/20230406_172551-scaled.jpg
END:VEVENT
BEGIN:VEVENT
DTSTART;TZID=Europe/Paris:20260409T170000
DTEND;TZID=Europe/Paris:20260409T184500
DTSTAMP:20260425T012607
CREATED:20260316T210301Z
LAST-MODIFIED:20260318T132620Z
UID:10035144-1775754000-1775760300@www.enfant-bordeaux.fr
SUMMARY:Animation Baby poney (3-5 ans) :
DESCRIPTION:Les 9 et 15 avril \nStage spécial\, découverte du poney pour les enfants de 3 à 5 ans. \nAu programme :accueil calme et individualisé\, approcher les poneys\, les brosser puis profiter d’une animation ou petite promenade d’environ 30 à 35 minutes en toute complicité. \nAccompagnement : 1 enfant – 1 parent \nStage sur réservation\,  \nInformation et inscription \nVoir tous les stages du centre équestre de la Burthe\n \n \n 
URL:https://www.enfant-bordeaux.fr/agenda/animation-baby-poney-3-5-ans-2/2026-04-09/2/
LOCATION:Centre equestre de la Burthes\, Chemin de la Burthe\, 33270\, Floirac\, 33270\, France
CATEGORIES:3-4 ans
ATTACH;FMTTYPE=image/jpeg:https://www.enfant-bordeaux.fr/wp-content/uploads/2026/03/20190209_170125-scaled.jpg
ORGANIZER;CN="centre equestre de la Burthe":MAILTO:equitationburthe@yahoo.fr
END:VEVENT
BEGIN:VEVENT
DTSTART;TZID=Europe/Paris:20260409T153000
DTEND;TZID=Europe/Paris:20260409T164500
DTSTAMP:20260425T012607
CREATED:20260316T210301Z
LAST-MODIFIED:20260318T132620Z
UID:10035143-1775748600-1775753100@www.enfant-bordeaux.fr
SUMMARY:Animation Baby poney (3-5 ans) :
DESCRIPTION:Les 9 et 15 avril \nStage spécial\, découverte du poney pour les enfants de 3 à 5 ans. \nAu programme :accueil calme et individualisé\, approcher les poneys\, les brosser puis profiter d’une animation ou petite promenade d’environ 30 à 35 minutes en toute complicité. \nAccompagnement : 1 enfant – 1 parent \nStage sur réservation\,  \nInformation et inscription \nVoir tous les stages du centre équestre de la Burthe\n \n \n 
URL:https://www.enfant-bordeaux.fr/agenda/animation-baby-poney-3-5-ans-2/2026-04-09/1/
LOCATION:Centre equestre de la Burthes\, Chemin de la Burthe\, 33270\, Floirac\, 33270\, France
CATEGORIES:3-4 ans
ATTACH;FMTTYPE=image/jpeg:https://www.enfant-bordeaux.fr/wp-content/uploads/2026/03/20190209_170125-scaled.jpg
ORGANIZER;CN="centre equestre de la Burthe":MAILTO:equitationburthe@yahoo.fr
END:VEVENT
BEGIN:VEVENT
DTSTART;VALUE=DATE:20260407
DTEND;VALUE=DATE:20260410
DTSTAMP:20260425T012607
CREATED:20260316T205114Z
LAST-MODIFIED:20260320T100334Z
UID:10035165-1775534400-1775707199@www.enfant-bordeaux.fr
SUMMARY:CENTRE ÉQUESTRE DE LA BURTHE : Découverte du PONEY (6-11 ans)
DESCRIPTION:Les 7-8 avril \nStage spécial (2 jours) découverte du poney pour les enfants de 6 à 11 ans. \nAu programme : apprendre à communiquer avec les poneys\, apprendre à brosser\, seller\, et un peu de technique pour monter et diriger seul. \nMais aussi\, des jeux de ballon\, équifun\, balade et chasse aux œufs. \nStage sur réservation\, \npenser à prévoir un pique-nique\n140€ les deux jours \nInformation et inscription \nVoir tous les stages du centre équestre de la Burthe
URL:https://www.enfant-bordeaux.fr/agenda/decouverte-du-poney-6-11-ans/
LOCATION:Centre equestre de la Burthes\, Chemin de la Burthe\, 33270\, Floirac\, 33270\, France
CATEGORIES:7-11 ans
ATTACH;FMTTYPE=image/jpeg:https://www.enfant-bordeaux.fr/wp-content/uploads/2026/03/20150819_091829-scaled.jpg
ORGANIZER;CN="centre equestre de la Burthe":MAILTO:equitationburthe@yahoo.fr
END:VEVENT
BEGIN:VEVENT
DTSTART;VALUE=DATE:20260216
DTEND;VALUE=DATE:20260218
DTSTAMP:20260425T012607
CREATED:20260121T102549Z
LAST-MODIFIED:20260121T102550Z
UID:10034755-1771234200-1771342200@www.enfant-bordeaux.fr
SUMMARY:Centre équestre de la Burthe : stages débutants poney 6-11 ans
DESCRIPTION:16 et 17 février \nPendant deux jours\, les enfants apprennent à brosser et seller leurs poneys seuls comme des vrais cavaliers.\n\nPuis direction le manège pour apprendre à monter\, faire des exercices développant l’équilibre à poney\, et même un peu de trot ! \nPause pique nique \nAu programme : Animation voltige & exercices pony-games\, une balade et une chasse au trésor. Trop chouette ! \nInfos et inscriptions centre équestre de la Burthe\n 
URL:https://www.enfant-bordeaux.fr/agenda/debutants-poney-6-11-ans-2/
LOCATION:Centre equestre de la Burthes\, Chemin de la Burthe\, 33270\, Floirac\, 33270\, France
CATEGORIES:Enfants
ATTACH;FMTTYPE=image/jpeg:https://www.enfant-bordeaux.fr/wp-content/uploads/2026/01/20230406_172553-scaled-e1768991022492.jpg
ORGANIZER;CN="centre equestre de la Burthe":MAILTO:equitationburthe@yahoo.fr
END:VEVENT
BEGIN:VEVENT
DTSTART;VALUE=DATE:20260209
DTEND;VALUE=DATE:20260212
DTSTAMP:20260425T012607
CREATED:20260120T202414Z
LAST-MODIFIED:20260121T102428Z
UID:10034754-1770609600-1770782399@www.enfant-bordeaux.fr
SUMMARY:Centre équestre de la Burthe : stages débutants poney 6-11 ans
DESCRIPTION:9 et 10 février \nPendant deux jours\, les enfants apprennent à brosser et seller leurs poneys seuls comme des vrais cavaliers.\n\nPuis direction le manège pour apprendre à monter\, faire des exercices développant l’équilibre à poney\, et même un peu de trot ! \nPause pique nique \nAu programme : Animation voltige & exercices pony-games\, une balade et une chasse au trésor. Trop chouette ! \nInfos et inscriptions centre équestre de la Burthe\n 
URL:https://www.enfant-bordeaux.fr/agenda/debutants-poney-6-11-ans/
LOCATION:Centre equestre de la Burthes\, Chemin de la Burthe\, 33270\, Floirac\, 33270\, France
CATEGORIES:Enfants
ATTACH;FMTTYPE=image/jpeg:https://www.enfant-bordeaux.fr/wp-content/uploads/2026/01/20230406_172553-scaled-e1768991022492.jpg
ORGANIZER;CN="centre equestre de la Burthe":MAILTO:equitationburthe@yahoo.fr
END:VEVENT
END:VCALENDAR