BEGIN:VCALENDAR
VERSION:2.0
PRODID:-//enfant-bordeaux.fr - ECPv6.15.20//NONSGML v1.0//EN
CALSCALE:GREGORIAN
METHOD:PUBLISH
X-ORIGINAL-URL:https://www.enfant-bordeaux.fr
X-WR-CALDESC:Évènements pour enfant-bordeaux.fr
REFRESH-INTERVAL;VALUE=DURATION:PT1H
X-Robots-Tag:noindex
X-PUBLISHED-TTL:PT1H
BEGIN:VTIMEZONE
TZID:Europe/Paris
BEGIN:DAYLIGHT
TZOFFSETFROM:+0100
TZOFFSETTO:+0200
TZNAME:CEST
DTSTART:20250330T010000
END:DAYLIGHT
BEGIN:STANDARD
TZOFFSETFROM:+0200
TZOFFSETTO:+0100
TZNAME:CET
DTSTART:20251026T010000
END:STANDARD
BEGIN:DAYLIGHT
TZOFFSETFROM:+0100
TZOFFSETTO:+0200
TZNAME:CEST
DTSTART:20260329T010000
END:DAYLIGHT
BEGIN:STANDARD
TZOFFSETFROM:+0200
TZOFFSETTO:+0100
TZNAME:CET
DTSTART:20261025T010000
END:STANDARD
BEGIN:DAYLIGHT
TZOFFSETFROM:+0100
TZOFFSETTO:+0200
TZNAME:CEST
DTSTART:20270328T010000
END:DAYLIGHT
BEGIN:STANDARD
TZOFFSETFROM:+0200
TZOFFSETTO:+0100
TZNAME:CET
DTSTART:20271031T010000
END:STANDARD
END:VTIMEZONE
BEGIN:VEVENT
DTSTART;TZID=Europe/Paris:20260216T100000
DTEND;TZID=Europe/Paris:20260217T160000
DTSTAMP:20260425T024707
CREATED:20260120T135640Z
LAST-MODIFIED:20260120T152335Z
UID:10034752-1771236000-1771344000@www.enfant-bordeaux.fr
SUMMARY:ZÈBRE ZEN : Stages lutte contre le harcèlement scolaire "La Récré c'est Sacré" - Biganos
DESCRIPTION:Stages de lutte contre le harcèlement scolaire\n16 et 17 février \nLes stages La Récré c’est Sacré reviennent pour les vacances de février ! \n\n\n\n2 jours pour apprendre à : \n\n\n\n– Se défendre\n– Développer ses compétences physiques\n– Apprendre des techniques de dégagement et de protection\n– Avoir de la répartie et de l’humour\n– Booster sa confiance en soi\n– Améliorer son agilité émotionnelle\nDates :\n\n16 et 17 février – de 10 ans à 15 ans – BIGANOS\nJe vous retrouve avec Grégory de l’ ASM Judo Jujitsu Taiso et Judo Biganos \n\n\n\n\nSur inscription \nStage lutte contre le harcèlement scolaire
URL:https://www.enfant-bordeaux.fr/agenda/stages-lutte-contre-le-harcelement-scolaire-la-recre-cest-sacre-biganos/
LOCATION:Dojo Jujitsu Biganos\, rue pierre de coubertin\, Biganos\, 33380
CATEGORIES:Activité pour enfants à Bordeaux et familles,Plus de 11 ans
ATTACH;FMTTYPE=image/jpeg:https://www.enfant-bordeaux.fr/wp-content/uploads/2026/01/Recre-Sacree-Saffirmer-et-se-defendre-Publication-Facebook-1-e1768922564454.jpg
ORGANIZER;CN="Ang%C3%A9lique Stock - Z%C3%A8bre Zen":MAILTO:angelique@harcelement-intimidation.fr
END:VEVENT
END:VCALENDAR