BEGIN:VCALENDAR
VERSION:2.0
PRODID:-//enfant-bordeaux.fr - ECPv6.15.20//NONSGML v1.0//EN
CALSCALE:GREGORIAN
METHOD:PUBLISH
X-ORIGINAL-URL:https://www.enfant-bordeaux.fr
X-WR-CALDESC:Évènements pour enfant-bordeaux.fr
REFRESH-INTERVAL;VALUE=DURATION:PT1H
X-Robots-Tag:noindex
X-PUBLISHED-TTL:PT1H
BEGIN:VTIMEZONE
TZID:Europe/Paris
BEGIN:DAYLIGHT
TZOFFSETFROM:+0100
TZOFFSETTO:+0200
TZNAME:CEST
DTSTART:20250330T010000
END:DAYLIGHT
BEGIN:STANDARD
TZOFFSETFROM:+0200
TZOFFSETTO:+0100
TZNAME:CET
DTSTART:20251026T010000
END:STANDARD
BEGIN:DAYLIGHT
TZOFFSETFROM:+0100
TZOFFSETTO:+0200
TZNAME:CEST
DTSTART:20260329T010000
END:DAYLIGHT
BEGIN:STANDARD
TZOFFSETFROM:+0200
TZOFFSETTO:+0100
TZNAME:CET
DTSTART:20261025T010000
END:STANDARD
BEGIN:DAYLIGHT
TZOFFSETFROM:+0100
TZOFFSETTO:+0200
TZNAME:CEST
DTSTART:20270328T010000
END:DAYLIGHT
BEGIN:STANDARD
TZOFFSETFROM:+0200
TZOFFSETTO:+0100
TZNAME:CET
DTSTART:20271031T010000
END:STANDARD
END:VTIMEZONE
BEGIN:VEVENT
DTSTART;VALUE=DATE:20260209
DTEND;VALUE=DATE:20260210
DTSTAMP:20260425T030201
CREATED:20260112T100418Z
LAST-MODIFIED:20260112T100418Z
UID:10034038-1770624000-1770660000@www.enfant-bordeaux.fr
SUMMARY:Accueil périscolaire / Centre de loisirs
DESCRIPTION:Nous accueillons les enfants de 8h à 18h et toute la journée est rythmée par différentes activités ( cuisine\, couture\, bricolage\, jeux de société\, danse…). \nCoût : 40€ la journée (repas et goûter compris) \nInscription par mail : montessori.bordeaux@gmail.com
URL:https://www.enfant-bordeaux.fr/agenda/accueil-periscolaire-centre-de-loisirs/2026-02-09/2/
LOCATION:Ecole Montessori Le Jardin des Enfants\, 40 ROUTE DU BOURG\, CAMBLANES ET MEYNAC\, 33360\, France
CATEGORIES:Activité pour enfants à Bordeaux et familles,Enfants
ATTACH;FMTTYPE=image/jpeg:https://www.enfant-bordeaux.fr/wp-content/uploads/2026/01/Screenshot_20250107_144554_Photos.jpg
ORGANIZER;CN="Ecole Montessori Le Jardin des Enfants":MAILTO:montessori.bordeaux@gmail.com
END:VEVENT
BEGIN:VEVENT
DTSTART;VALUE=DATE:20260209
DTEND;VALUE=DATE:20260215
DTSTAMP:20260425T030201
CREATED:20260112T100418Z
LAST-MODIFIED:20260112T100418Z
UID:10034037-1770609600-1771041599@www.enfant-bordeaux.fr
SUMMARY:Accueil périscolaire / Centre de loisirs
DESCRIPTION:Nous accueillons les enfants de 8h à 18h et toute la journée est rythmée par différentes activités ( cuisine\, couture\, bricolage\, jeux de société\, danse…). \nCoût : 40€ la journée (repas et goûter compris) \nInscription par mail : montessori.bordeaux@gmail.com
URL:https://www.enfant-bordeaux.fr/agenda/accueil-periscolaire-centre-de-loisirs/2026-02-09/1/
LOCATION:Ecole Montessori Le Jardin des Enfants\, 40 ROUTE DU BOURG\, CAMBLANES ET MEYNAC\, 33360\, France
CATEGORIES:Activité pour enfants à Bordeaux et familles,Enfants
ATTACH;FMTTYPE=image/jpeg:https://www.enfant-bordeaux.fr/wp-content/uploads/2026/01/Screenshot_20250107_144554_Photos.jpg
ORGANIZER;CN="Ecole Montessori Le Jardin des Enfants":MAILTO:montessori.bordeaux@gmail.com
END:VEVENT
BEGIN:VEVENT
DTSTART;TZID=Europe/Paris:20260124T090000
DTEND;TZID=Europe/Paris:20260124T160000
DTSTAMP:20260425T030201
CREATED:20251106T132126Z
LAST-MODIFIED:20260119T141548Z
UID:10033459-1769245200-1769270400@www.enfant-bordeaux.fr
SUMMARY:Journée Portes Ouvertes – École Montessori Le Jardin des Enfants sous contrat avec l'éducation nationale
DESCRIPTION:Journée Portes Ouvertes – École Montessori Le Jardin des Enfants sous contrat avec l’éducation nationale \n\n\n\n\n Camblanes-et-Meynac\, aux portes de Bordeaux \n\n\n\n\n Samedi 24 janvier\, de 9h à 16h \n\n\n\n\nNous vous invitons à découvrir Le Jardin des Enfants\, une école Montessori privée forte de 26 années d’expérience\, engagée depuis 1999 au service du développement harmonieux de l’enfant. \n\n\n\n\nL’école accueille les enfants de 2 à 11 ans et met en œuvre la pédagogie Montessori dans le respect des valeurs de l’Association Montessori Internationale (AMI)\, avec des professionnels diplômés et expérimentés. \n\n\n\n\n La classe élémentaire (6–11 ans) est sous contrat avec l’État depuis 2013\, garantissant la conformité des apprentissages aux exigences de l’Éducation nationale tout en préservant l’approche Montessori. \n\n\n\n\nNos ambiances pédagogiques\n\n\n\n\n 2–3 ans \n\n\n\n\nUne classe passerelle qui prépare en douceur à l’entrée à l’école : autonomie\, confiance en soi\, persévérance et plaisir de faire seul. \n\n\n\n\n 3–6 ans \n\n\n\n\nUne ambiance riche et structurée favorisant la motricité\, la concentration\, le langage\, les mathématiques et l’éveil culturel à travers le matériel Montessori. \n\n\n\n\n 6–11 ans (classe élémentaire sous contrat) \n\n\n\n\nUne pédagogie qui nourrit la curiosité intellectuelle\, développe la discipline intérieure\, l’autonomie et le sens de la coopération\, tout en cultivant le désir naturel d’apprendre. \n\n\n\n\nL’enfant évolue dans un cadre à la fois structuré et respectueux\, où la liberté de mouvement\, le choix du travail et l’entraide permettent à chacun de progresser à son rythme. \n\n\n\n\n Inscriptions possibles en cours d’année \n\n\n\n\nCette journée portes ouvertes est l’occasion de : \n\n\n\n\n• visiter les ambiances \n\n\n\n\n• rencontrer l’équipe pédagogique \n\n\n\n\n• comprendre le fonctionnement de l’école \n• écouter les témoignages d’anciens élèves de l’école à 11h \n\n\n\n\n• poser toutes vos questions \n\n\n\n\n montessori.bordeaux@gmail.com \n\n\n\n\n 05 56 20 61 19 (de 13h30 à 16h) \n\n\n\n\n www.montessori-bordeaux.com \n\n\n\n\nParce que respecter l’enfant aujourd’hui\, \n\n\n\n\nc’est construire l’adulte de demain.
URL:https://www.enfant-bordeaux.fr/agenda/journee-portes-ouvertes/
LOCATION:Ecole Montessori Le Jardin des Enfants\, 40 ROUTE DU BOURG\, CAMBLANES ET MEYNAC\, 33360\, France
CATEGORIES:Activité pour enfants à Bordeaux et familles,Sortie pour enfants et familles à Bordeaux Gironde
ATTACH;FMTTYPE=image/jpeg:https://www.enfant-bordeaux.fr/wp-content/uploads/2025/11/PHOTO-2025-09-18-20-04-13_2.jpg
ORGANIZER;CN="Ecole Montessori Le Jardin des Enfants":MAILTO:montessori.bordeaux@gmail.com
END:VEVENT
END:VCALENDAR