BEGIN:VCALENDAR
VERSION:2.0
PRODID:-//enfant-bordeaux.fr - ECPv6.15.20//NONSGML v1.0//EN
CALSCALE:GREGORIAN
METHOD:PUBLISH
X-WR-CALNAME:enfant-bordeaux.fr
X-ORIGINAL-URL:https://www.enfant-bordeaux.fr
X-WR-CALDESC:Évènements pour enfant-bordeaux.fr
REFRESH-INTERVAL;VALUE=DURATION:PT1H
X-Robots-Tag:noindex
X-PUBLISHED-TTL:PT1H
BEGIN:VTIMEZONE
TZID:Europe/Paris
BEGIN:DAYLIGHT
TZOFFSETFROM:+0100
TZOFFSETTO:+0200
TZNAME:CEST
DTSTART:20250330T010000
END:DAYLIGHT
BEGIN:STANDARD
TZOFFSETFROM:+0200
TZOFFSETTO:+0100
TZNAME:CET
DTSTART:20251026T010000
END:STANDARD
BEGIN:DAYLIGHT
TZOFFSETFROM:+0100
TZOFFSETTO:+0200
TZNAME:CEST
DTSTART:20260329T010000
END:DAYLIGHT
BEGIN:STANDARD
TZOFFSETFROM:+0200
TZOFFSETTO:+0100
TZNAME:CET
DTSTART:20261025T010000
END:STANDARD
BEGIN:DAYLIGHT
TZOFFSETFROM:+0100
TZOFFSETTO:+0200
TZNAME:CEST
DTSTART:20270328T010000
END:DAYLIGHT
BEGIN:STANDARD
TZOFFSETFROM:+0200
TZOFFSETTO:+0100
TZNAME:CET
DTSTART:20271031T010000
END:STANDARD
END:VTIMEZONE
BEGIN:VEVENT
DTSTART;TZID=Europe/Paris:20260124T100000
DTEND;TZID=Europe/Paris:20260124T120000
DTSTAMP:20260425T032233
CREATED:20260112T124711Z
LAST-MODIFIED:20260121T172330Z
UID:10034040-1769248800-1769256000@www.enfant-bordeaux.fr
SUMMARY:Festival de l’apprendre : Relevez les défis des personnes ayant un trouble DYS
DESCRIPTION:Atelier immersif : comprendre les troubles DYS et le TDAH\n\nSaviez-vous qu’une personne sur six est concernée par un trouble DYS (dyslexie\, dyspraxie…)\, un TDAH (trouble de l’attention avec ou sans hyperactivité) ou un TSA (Trouble de Spectre de l’Autisme) ?\nQue vous soyez directement concerné.e ou non\, ces différences impactent votre quotidien\, car elles concernent forcément un proche\, un collègue\, ou un élève.\n\nCet atelier immersif vous propose de vivre des mises en situation interactives : lire avec une « dyslexie simulée »\, gérer une surcharge cognitive ou suivre des consignes avec des distractions constantes. Vous découvrirez les défis que ces troubles imposent\, mais aussi des clés pour mieux comprendre et interagir.\n\nPour qui ?\n\nAdultes : parents\, enseignants\, collègues ou toute personne curieuse d’en apprendre plus.\nEnfants/ados (10 ans et +) : pour mieux appréhender ces différences et développer de l’empathie.\n\n\nPourquoi participer ?\nParce que comprendre ces troubles\, c’est améliorer ses interactions avec les autres et construire un environnement plus bienveillant. \n\nInfos pratiques :\n\nDurée : 2h\nParticipants : 20 personnes max\nGratuit mais sur inscription\nAnimé par : Aurélie Dhoyer\, orthopédagogue spécialisée.\n\n\n\nVivez une expérience unique pour mieux comprendre ces défis invisibles\, mais omniprésents dans nos vies. \nInscription via ce lien : https://www.billetweb.fr/relevez-les-defis-des-personnes-ayant-un-trouble-dys1
URL:https://www.enfant-bordeaux.fr/agenda/festival-de-lapprendre-relevez-les-defis-des-personnes-ayant-un-trouble-dys/
LOCATION:edeys\, 93 avenue du Taillan\, Eysines\, 33320
ATTACH;FMTTYPE=image/png:https://www.enfant-bordeaux.fr/wp-content/uploads/2026/01/Design-sans-titre-1.png
END:VEVENT
END:VCALENDAR