BEGIN:VCALENDAR
VERSION:2.0
PRODID:-//enfant-bordeaux.fr - ECPv6.15.20//NONSGML v1.0//EN
CALSCALE:GREGORIAN
METHOD:PUBLISH
X-ORIGINAL-URL:https://www.enfant-bordeaux.fr
X-WR-CALDESC:Évènements pour enfant-bordeaux.fr
REFRESH-INTERVAL;VALUE=DURATION:PT1H
X-Robots-Tag:noindex
X-PUBLISHED-TTL:PT1H
BEGIN:VTIMEZONE
TZID:Europe/Paris
BEGIN:DAYLIGHT
TZOFFSETFROM:+0100
TZOFFSETTO:+0200
TZNAME:CEST
DTSTART:20250330T010000
END:DAYLIGHT
BEGIN:STANDARD
TZOFFSETFROM:+0200
TZOFFSETTO:+0100
TZNAME:CET
DTSTART:20251026T010000
END:STANDARD
BEGIN:DAYLIGHT
TZOFFSETFROM:+0100
TZOFFSETTO:+0200
TZNAME:CEST
DTSTART:20260329T010000
END:DAYLIGHT
BEGIN:STANDARD
TZOFFSETFROM:+0200
TZOFFSETTO:+0100
TZNAME:CET
DTSTART:20261025T010000
END:STANDARD
BEGIN:DAYLIGHT
TZOFFSETFROM:+0100
TZOFFSETTO:+0200
TZNAME:CEST
DTSTART:20270328T010000
END:DAYLIGHT
BEGIN:STANDARD
TZOFFSETFROM:+0200
TZOFFSETTO:+0100
TZNAME:CET
DTSTART:20271031T010000
END:STANDARD
END:VTIMEZONE
BEGIN:VEVENT
DTSTART;TZID=Europe/Paris:20260318T103000
DTEND;TZID=Europe/Paris:20260318T110000
DTSTAMP:20260425T054445
CREATED:20250807T142500Z
LAST-MODIFIED:20250811T121918Z
UID:10032534-1773829800-1773831600@www.enfant-bordeaux.fr
SUMMARY:SPECTACLE POUR TOUT PETITS – ÉCLIPSE ET COQUELICOT – Une hirondelle compagnie
DESCRIPTION:ÉCLIPSE ET COQUELICOT – Une hirondelle compagnie \nSpectacle pour pieds et pour mains \nUn bruissement léger de feuillage qu’une douce brise agite. Un parfum d’herbe fraîchement coupée\, un champ de coquelicots. Une jeune fille espiègle s’y délasse… \nÉclipse et coquelicot joue du corps de la comédienne comme d’une marionnette vivante. Sa main gauche part à la rencontre de la droite\, ses pieds ne sont pas en reste ! \nUne invitation au voyage au centre d’une scénographie tout en tissu\, au motif floral répétitif.\nSophie Kastelnik bouleverse les codes\, fait affleurer les émotions\, titille notre imaginaire dans son monde plein de tendresse\, de drôlerie\, de douce rêverie. \nMercredi 18 mars 2026 – 10h30 \nDurée : 30 mn \nÀ partir de 18 mois \nTarif : 7€ \nhttps://espacelaforge.fr/programme/eclipse-et-coquelicot/
URL:https://www.enfant-bordeaux.fr/agenda/spectacle-pour-tout-petits-eclipse-et-coquelicot-une-hirondelle-compagnie/
LOCATION:Espace culturel La Forge\, 27 rue du 8 mai 1945\, Portets\, 33640
CATEGORIES:Sortie pour enfants et familles à Bordeaux Gironde
ATTACH;FMTTYPE=image/jpeg:https://www.enfant-bordeaux.fr/wp-content/uploads/2025/08/Sophie-Kastelnik-Eclipse-coquelicot-61-©-Mathieu-Prat.jpg
ORGANIZER;CN="27 rue du 8 mai 1945%2C 33640 PORTETS":MAILTO:culture@convergence-garonne.fr
GEO:44.6930776;-0.4245631
X-APPLE-STRUCTURED-LOCATION;VALUE=URI;X-ADDRESS=Espace culturel La Forge 27 rue du 8 mai 1945 Portets 33640;X-APPLE-RADIUS=500;X-TITLE=27 rue du 8 mai 1945:geo:-0.4245631,44.6930776
END:VEVENT
BEGIN:VEVENT
DTSTART;TZID=Europe/Paris:20260304T143000
DTEND;TZID=Europe/Paris:20260304T152500
DTSTAMP:20260425T054445
CREATED:20250807T141431Z
LAST-MODIFIED:20250811T121859Z
UID:10032533-1772634600-1772637900@www.enfant-bordeaux.fr
SUMMARY:VOYAGE SUR LA PLANÈTE HIP HOP – CANDIDE – Jeunes Princes
DESCRIPTION:CANDIDE – Jeunes Princes \nÂmes dansantes et cœurs battants \nCandide\, c’est l’histoire d’un face-à-face\, un duel artistique sensible et supertonique entre danse hip-hop et beatbox. Avec douceur et vitalité\, le spectacle aborde des moments de vie que chacun expérimente dans sa jeunesse : la peur du ridicule\, le regard des autres\, la frustration\, ou encore la légèreté des joies simples partagées. \nLe duo Jeunes Princes excelle dans leurs arts avec une grande complicité. \nIsma\, danseur\, interprète et médiateur auprès de multiples compagnies et Bookie Blanco champion de France de beatbox en 2022 abordent ainsi des situations qui font écho à leur rencontre créative et à leurs parcours artistiques personnel \nMercredi 4 mars 2026 – 14h30 \nDurée : 55 mn \nTout public à partir de 6 ans \nTarif  : 14€/10€/7€ \nhttps://espacelaforge.fr/programme/candide/
URL:https://www.enfant-bordeaux.fr/agenda/voyage-sur-la-planete-hip-hop-candide-jeunes-princes/
LOCATION:Espace culturel La Forge\, 27 rue du 8 mai 1945\, Portets\, 33640
CATEGORIES:Sortie pour enfants et familles à Bordeaux Gironde
ATTACH;FMTTYPE=image/jpeg:https://www.enfant-bordeaux.fr/wp-content/uploads/2025/08/2023-PDS-JM-FRANCE-411-scaled.jpg
ORGANIZER;CN="27 rue du 8 mai 1945%2C 33640 PORTETS":MAILTO:culture@convergence-garonne.fr
GEO:44.6930776;-0.4245631
X-APPLE-STRUCTURED-LOCATION;VALUE=URI;X-ADDRESS=Espace culturel La Forge 27 rue du 8 mai 1945 Portets 33640;X-APPLE-RADIUS=500;X-TITLE=27 rue du 8 mai 1945:geo:-0.4245631,44.6930776
END:VEVENT
END:VCALENDAR