BEGIN:VCALENDAR
VERSION:2.0
PRODID:-//enfant-bordeaux.fr - ECPv6.15.20//NONSGML v1.0//EN
CALSCALE:GREGORIAN
METHOD:PUBLISH
X-WR-CALNAME:enfant-bordeaux.fr
X-ORIGINAL-URL:https://www.enfant-bordeaux.fr
X-WR-CALDESC:Évènements pour enfant-bordeaux.fr
REFRESH-INTERVAL;VALUE=DURATION:PT1H
X-Robots-Tag:noindex
X-PUBLISHED-TTL:PT1H
BEGIN:VTIMEZONE
TZID:Europe/Paris
BEGIN:DAYLIGHT
TZOFFSETFROM:+0100
TZOFFSETTO:+0200
TZNAME:CEST
DTSTART:20250330T010000
END:DAYLIGHT
BEGIN:STANDARD
TZOFFSETFROM:+0200
TZOFFSETTO:+0100
TZNAME:CET
DTSTART:20251026T010000
END:STANDARD
BEGIN:DAYLIGHT
TZOFFSETFROM:+0100
TZOFFSETTO:+0200
TZNAME:CEST
DTSTART:20260329T010000
END:DAYLIGHT
BEGIN:STANDARD
TZOFFSETFROM:+0200
TZOFFSETTO:+0100
TZNAME:CET
DTSTART:20261025T010000
END:STANDARD
BEGIN:DAYLIGHT
TZOFFSETFROM:+0100
TZOFFSETTO:+0200
TZNAME:CEST
DTSTART:20270328T010000
END:DAYLIGHT
BEGIN:STANDARD
TZOFFSETFROM:+0200
TZOFFSETTO:+0100
TZNAME:CET
DTSTART:20271031T010000
END:STANDARD
END:VTIMEZONE
BEGIN:VEVENT
DTSTART;TZID=Europe/Paris:20260424T100000
DTEND;TZID=Europe/Paris:20260426T170000
DTSTAMP:20260423T154348
CREATED:20260420T100803Z
LAST-MODIFIED:20260421T134657Z
UID:10035851-1777024800-1777222800@www.enfant-bordeaux.fr
SUMMARY:Journées Portes Ouvertes HOMEXPO 24-25-26 avril 2026
DESCRIPTION:JPO HOMEXPO – 3 jours pour concrétiser votre projet de construction !\nDu vendredi 24 au dimanche 26 avril\, de 10h à 17h\, Homexpo vous ouvre ses portes pour un événement dédié à la concrétisation de votre projet de construction. \nVous venez avec une idée… vous repartez avec un projet clair\, dessiné et chiffré. \nPendant ces 3 jours\, bénéficiez d’un accompagnement complet pour transformer votre envie en plan concret et en budget maîtrisé. \nUn accompagnement complet avec une offre 3 en 1 \nPendant ces 3 jours exclusifs\, profitez d’un parcours 100 % personnalisé pour avancer sereinement dans votre projet de construction : \n✔️ Rencontrez les constructeurs\nDécouvrez leurs modèles de maisons\, explorez les dernières tendances et bénéficiez de conseils personnalisés pour imaginer votre future maison. \n✔️ Trouvez votre financement\nDes courtiers en prêt immobilier seront présents pour analyser votre situation et vous proposer les meilleures solutions de financement. \n✔️ Choisissez votre terrain\nDes experts fonciers vous aideront à identifier le terrain idéal en fonction de votre budget et de vos préférences. \n  \nUn parcours clé en main : \nGagnez du temps en rencontrant les 10 constructeurs et en visitant les 13 maisons sur place \nComparez les offres et avancez concrètement dans votre projet. \nVous ne connaissez pas encore Homexpo ? Retrouvez l’avis de Papa Yann sur son dernier article Les meilleurs constructeurs de maisons de Bordeaux.
URL:https://www.enfant-bordeaux.fr/agenda/journees-portes-ouvertes-homexpo-24-25-26-avril-2026/
LOCATION:Homexpo\, Parc des Expositions de Bordeaux\, Bordeaux\, 33300\, France
CATEGORIES:Sortie pour enfants et familles à Bordeaux Gironde
ATTACH;FMTTYPE=image/jpeg:https://www.enfant-bordeaux.fr/wp-content/uploads/2026/04/Homexpo-JPO-Post-fixe-scaled.jpg
END:VEVENT
END:VCALENDAR