BEGIN:VCALENDAR
VERSION:2.0
PRODID:-//enfant-bordeaux.fr - ECPv6.15.20//NONSGML v1.0//EN
CALSCALE:GREGORIAN
METHOD:PUBLISH
X-WR-CALNAME:enfant-bordeaux.fr
X-ORIGINAL-URL:https://www.enfant-bordeaux.fr
X-WR-CALDESC:Évènements pour enfant-bordeaux.fr
REFRESH-INTERVAL;VALUE=DURATION:PT1H
X-Robots-Tag:noindex
X-PUBLISHED-TTL:PT1H
BEGIN:VTIMEZONE
TZID:Europe/Paris
BEGIN:DAYLIGHT
TZOFFSETFROM:+0100
TZOFFSETTO:+0200
TZNAME:CEST
DTSTART:20250330T010000
END:DAYLIGHT
BEGIN:STANDARD
TZOFFSETFROM:+0200
TZOFFSETTO:+0100
TZNAME:CET
DTSTART:20251026T010000
END:STANDARD
BEGIN:DAYLIGHT
TZOFFSETFROM:+0100
TZOFFSETTO:+0200
TZNAME:CEST
DTSTART:20260329T010000
END:DAYLIGHT
BEGIN:STANDARD
TZOFFSETFROM:+0200
TZOFFSETTO:+0100
TZNAME:CET
DTSTART:20261025T010000
END:STANDARD
BEGIN:DAYLIGHT
TZOFFSETFROM:+0100
TZOFFSETTO:+0200
TZNAME:CEST
DTSTART:20270328T010000
END:DAYLIGHT
BEGIN:STANDARD
TZOFFSETFROM:+0200
TZOFFSETTO:+0100
TZNAME:CET
DTSTART:20271031T010000
END:STANDARD
END:VTIMEZONE
BEGIN:VEVENT
DTSTART;TZID=Europe/Paris:20260328T100000
DTEND;TZID=Europe/Paris:20260328T170000
DTSTAMP:20260425T011113
CREATED:20260319T101254Z
LAST-MODIFIED:20260319T101254Z
UID:10035162-1774692000-1774717200@www.enfant-bordeaux.fr
SUMMARY:L'anniversaire de La Maison Sesâme
DESCRIPTION:Il y a un an\, La Maison Sesâme\, véritable paradis des familles\, ouvrait ses portes. Alors pour célébrer cette première année\, vous êtes invités à une grande journée portes ouvertes le samedi 28 mars !\nTout au long de cette journée\, vous aurez accès à des jeux\, châteaux gonflables et activités pour les enfants. Vous pourrez découvrir ou redécouvrir ce lieu et y rencontrer les intervenants. Les adultes pourront profiter de cours de sport gratuits de 30 minutes\, sur réservation. Vous pourrez vous restaurer\, boire et goûter sur place avec de délicieux en-cas maison. \nDate : samedi 28 mars 2026\, en continue de 10h à 17h\nLieu : La Maison Sesâme\, 13 rue Théophile Gautier\, 33110 Le Bouscat\nAu programme :\nJeux\, château gonflable & activités pour les enfants\nDécouverte du lieu et rencontres avec les intervenants\nCours de sport gratuits\, sur réservation :\n11h yoga vinyasa\n11h30 yoga doux\n14h pilates flow\n14h30 yin yang yoga\n15h salsa\n15h30 yogi boxe\n– Crêpes & pâtisseries maison\n– Boissons et petite restauration sur place.\nInfos utiles : Pour tous les âges. Enfants accompagnés de leurs parents. Entrée libre et gratuite. Restauration & château gonflable payants (à partir de 2€/ticket). Cours de sport gratuits mais réservation conseillée sur le site www.lamaisonsesame.fr
URL:https://www.enfant-bordeaux.fr/agenda/lanniversaire-de-la-maison-sesame/
LOCATION:La Maison Sesâme\, 13 rue Théophile Gautier\, Le Bouscat\, 33110\, France
ATTACH;FMTTYPE=image/jpeg:https://www.enfant-bordeaux.fr/wp-content/uploads/2026/03/Affiches-chevalets.jpg
END:VEVENT
BEGIN:VEVENT
DTSTART;TZID=Europe/Paris:20260128T090000
DTEND;TZID=Europe/Paris:20260128T120000
DTSTAMP:20260425T011113
CREATED:20260108T083441Z
LAST-MODIFIED:20260112T075430Z
UID:10034035-1769590800-1769601600@www.enfant-bordeaux.fr
SUMMARY:Matinée d’astronomie au Bouscat
DESCRIPTION:Passez une matinée à la découverte de l’espace avec Albiréoo\n\nAvec des jeux\, des histoires\, des expériences\, des vidéos et des simulations informatiques\, votre enfant partira à la découverte des planètes\, étoiles\, galaxies et autres nébuleuses. Il apprendra également à piloter une fusée\, à manipuler un télescope et si les conditions météo le permettent\, une observation de la Lune ou du Soleil avec des instruments spécifiques pourra être programmée.\nPour une matinée inoubliable dans les étoiles\, on  se retrouve mercredi 28 janvier à 9h à la Maison Sésâme\, 13 rue Théophile Gautier\, 33110 Le Bouscat.\nPlus d’infos sur www.albireoo.fr ou au 06-13-56-42-87
URL:https://www.enfant-bordeaux.fr/agenda/matinee-dastronomie-au-bouscat/
LOCATION:La Maison Sesâme\, 13 rue Théophile Gautier\, Le Bouscat\, 33110\, France
CATEGORIES:7-12 ans
ATTACH;FMTTYPE=image/jpeg:https://www.enfant-bordeaux.fr/wp-content/uploads/2026/01/3-2-scaled.jpg
ORGANIZER;CN="Albir%C3%A9oo":MAILTO:albireoo@yahoo.com
END:VEVENT
END:VCALENDAR