BEGIN:VCALENDAR
VERSION:2.0
PRODID:-//enfant-bordeaux.fr - ECPv6.15.20//NONSGML v1.0//EN
CALSCALE:GREGORIAN
METHOD:PUBLISH
X-WR-CALNAME:enfant-bordeaux.fr
X-ORIGINAL-URL:https://www.enfant-bordeaux.fr
X-WR-CALDESC:Évènements pour enfant-bordeaux.fr
REFRESH-INTERVAL;VALUE=DURATION:PT1H
X-Robots-Tag:noindex
X-PUBLISHED-TTL:PT1H
BEGIN:VTIMEZONE
TZID:Europe/Paris
BEGIN:DAYLIGHT
TZOFFSETFROM:+0100
TZOFFSETTO:+0200
TZNAME:CEST
DTSTART:20250330T010000
END:DAYLIGHT
BEGIN:STANDARD
TZOFFSETFROM:+0200
TZOFFSETTO:+0100
TZNAME:CET
DTSTART:20251026T010000
END:STANDARD
BEGIN:DAYLIGHT
TZOFFSETFROM:+0100
TZOFFSETTO:+0200
TZNAME:CEST
DTSTART:20260329T010000
END:DAYLIGHT
BEGIN:STANDARD
TZOFFSETFROM:+0200
TZOFFSETTO:+0100
TZNAME:CET
DTSTART:20261025T010000
END:STANDARD
BEGIN:DAYLIGHT
TZOFFSETFROM:+0100
TZOFFSETTO:+0200
TZNAME:CEST
DTSTART:20270328T010000
END:DAYLIGHT
BEGIN:STANDARD
TZOFFSETFROM:+0200
TZOFFSETTO:+0100
TZNAME:CET
DTSTART:20271031T010000
END:STANDARD
END:VTIMEZONE
BEGIN:VEVENT
DTSTART;VALUE=DATE:20260131
DTEND;VALUE=DATE:20260210
DTSTAMP:20260425T041101
CREATED:20260122T142256Z
LAST-MODIFIED:20260122T143142Z
UID:10034821-1769832000-1770609599@www.enfant-bordeaux.fr
SUMMARY:RATATAM ! – 9ème édition / du 31 janvier au 8 février 2026
DESCRIPTION:SPECTACLES – expositions – CINÉMA – CONCOURS de dessins et de grimaces – DÉDICACES – Conte – LECTURES – Ateliers créatifs – JEUX à gogo – BOUM … \nDu 31 janvier au 8 février\, le festival RATATAM ! revient pour une 9e édition joyeuse et colorée avec cette année comme marraine Séverine Vidal\, écrivaine et scénariste de bande dessinée.\n \nLa programmation va enchanter toute la famille (à partir de 3 ans) : spectacles\, cinéma\, expos\, concours de dessins et de grimaces\, lectures musicales\, dédicaces\, jeux\, ateliers créatifs et même une grande boum en ouverture de festival le samedi 31 jan de 16h30 à 19h avec la Brigade du Bonheur ! \nFeuilletez le programme complet ici \n  \n************************************************** PROGRAMME :  \nSAMEDI 31 JANVIER \nESPACE DE LA SABLIÈRE > BOUM DE LANCEMENT !\nLa méga boum de Ratatam est de retour !\nDes bulles\, des paillettes et surtout beaucoup de folie : la Brigade du Bonheur revient mettre le feu au dancefloor !\n16h30 / Tout public / 2h30 / Gratuit \nPlus de deux heures de danse et de chant\, des quarts d’heure musicaux pour satisfaire tous les goûts (pop\, électro\, disco\, Disney…) et faire la fête ensemble !\nEn 2026\, Ratatam se pare des couleurs de l’amour (thème du concours de dessins) : on vous attend nombreux\, car le bonheur\, lui\, n’attend pas ! \n  \nMERCREDI 4 FÉVRIER \n BIBLIOTHÈQUE > ATELIER D’ÉCRITURE : les recettes de mon enfance\n10h30 / Adultes / 1h30 / Gratuit sur inscription\nSéverine Vidal animera un atelier d’écriture pour adultes sur le thème de la mémoire et du goût. \nBIBLIOTHÈQUE > LECTURE  \n11h / À partir de 5 ans / 30 minutes / Gratuit sur inscription\nUn voyage au pays des rêves et de l’imaginaire pour découvrir les albums de Séverine Vidal. \nBIBLIOTHÈQUE > ATELIER CRÉATIF #moiRPG \n14h30 / À partir de 8 ans / 1h30 / Gratuit sur inscription\nEn compagnie de Séverine Vidal\, viens créer la carte de ton personnage préféré ! \n\n\n\n\n\n\n 14h30 /GAGARINE – UN TOUR EN L’AIR  :\n\n\n\n\n\nBruno Garcia : chant\, guitare Benjamin Rumeau : batterie Florian Pessin : guitares et basse \nLe jeune public\, ça n’existe pas ! Faire des chansons qui soient en capacité de faire sourire\, rêver\, se questionner les petits tout en étant agréables pour les parents\, si. Écartons donc tout de suite l’idée de chansons comme d’un menu-enfants : ni coquillettes ni steak haché au programme\, ce sera cuisine inventive et savoureuse pour tout le monde ! \n« J’ai eu envie de ressortir ma vieille panoplie de cosmonaute\, car vu du royaume des têtes en l’air\, tout est possible\, à commencer par parler avec des animaux étonnants. Tournoyant dans l’atmosphère dans notre capsule en fer\, nous verrons donc par le hublot tout un tas de choses dont on pourra parler en famille : c’est où Chandernagor ? Est-il normal de mettre son T-Shirt devant derrière parce que l’on pense à autre chose ? Peut-on s’adjoindre les services d‘un pigeon de chasse pour bombarder de fiente les gens qui polluent la planète ? Pourquoi ne peut-on pas libérer toutes les girafes des zoos ? Et bien d’autres… Mais le mieux\, c’est que ces chansons reliées entre elles racontent une vraie petite histoire. Notre pari : la raconter avec des chansons\, du son… et pas un seul écran ! » Bruno Garcia \nChanson – Tout public dès 5 ans (8€/ 5€) \nEn partenariat avec Voix du Sud et l’école élémentaire de la Luzerne \n  \nVENDREDI 6 FÉVRIER \n LUDOTHÈQUE > ATELIER JEUX  \n16h45 / À partir de 6 ans / 1h15 / Gratuit sur inscription\nLes LuBithécaires ont sélectionné des jeux sur les émotions et les choses qu’on aime (comme les bonbons et les animaux mignons) pour jouer tous ensemble ! \n   \n\n\n 20h00 / LE GRENIER À PÉPÉ – Cie K-Bestan : \n\n\nAvec : Céline Arblay et Anthony Plos \n \nQuel bazar ce grenier où Grand-Père\, ancien artiste de cirque a laissé toutes ses valises et autant de souvenirs ! Sûr que son petit-fils\, en décidant de ranger ce lieu\, ne s’attendait pas à faire une telle rencontre : au fond d’une malle\, il découvre une marionnette plutôt particulière… Dès lors\, le temps s’arrête. Fouillant dans sa mémoire\, il retrouve les gestes de son « pépé » et petit à petit… il redonne vie à sa marionnette. \nCirque\, théâtre et musique s’emmêlent et s’entremêlent pour un voyage\, empreint de drôleries et de poésie\, dans le monde de l’éternelle enfance. \nUn duo entre cirque et musique où la souplesse acrobatique rejoint la légèreté de la jonglerie ! \nCirque acrobatique et musical  partir de 4 ans (12€ / 8€) \n  \nSAMEDI 7 FÉVRIER \nBIBLIOTHÈQUE > LECTURE MUSICALE par Séverine Vidal\n10h / À partir de 7 ans / 1h / Gratuit sur inscription\nDes histoires incroyables mais (presque) vraies extraites de son livre Histoires secrètes d’ovnis et d’extraterrestres pour écouter et frissonner ensemble ! \nCINÉMA > LA GRANDE RÊVASION\n10h / À partir de 4 ans / 45 min\nUn programme où l’imagination donne des ailes ! Avoir le trac avant de monter sur scène et s’inventer un monde\, découvrir un objet bien mystérieux ou ce qui se cache dans une grande boîte\, ces trois court-métrages éveilleront l’imaginaire et aideront les jeunes spectateurs à trouver la confiance en eux. \nBIBLIOTHÈQUE > BATTLE DE DESSIN par la Compagnie Il était une fois\n11h / Tout public / 1h30 / Entrée libre \nDans la limite des places disponibles\nRatatam ! ne peut se passer de cette battle de dessin que nous propose Loïc Dauvillier. Auteur et illustrateur jeunesse\, il met au défi les dessinateurs invités dans une battle en musique\, sur des thèmes originaux et décalés\, choisis par les Ratatameurs. Votez\, et repartez avec les plus beaux dessins ! \nCINÉMA > HEIDI ET LE LYNX DES MONTAGNES\n11h / À partir de 3 ans / 1h18\nHeidi recueille un bébé lynx blessé et\, avec Peter\, tente de le sauver en secret. Menacés par Schnaittinger\, un homme d’affaires prêt à poser des pièges pour sa scierie\, ils doivent protéger l’animal\, sa famille et leur montagne. \nCINÉMA > TAFITI\n13h / À partir de 5 ans / 1h20\nTafiti\, un jeune suricate\, doit sauver son grand-père mordu par un serpent en cherchant une fleur légendaire au-delà du désert. Malgré ses réticences\, il part avec Mèchefol\, un sanglier enthousiaste\, vivant une aventure dangereuse où naît une amitié inattendue. \n BIBLIOTHÈQUE > ATELIER BD avec Séverine Vidal\, marraine du festival !\n14h / À partir de 10 ans / 2h / Gratuit sur inscription\nCréez votre BD inspirée de Nepka en compagnie de Séverine Vidal ! \nBIBLIOTHÈQUE > LECTURE\n15h / À partir de 4 ans / 30min / Gratuit sur inscription\nUn voyage au pays des rêves et de l’imaginaire pour découvrir les albums de Séverine Vidal. \nBIBLIOTHÈQUE > VENTE DÉDICACE\n15h30 / Tout public / 1h30 \nSéance de vente et dédicaces de Séverine Vidal avec la librairie Le Pavé dans la Marge. \nL’ENTREPÔT > REMISE DES PRIX DES CONCOURS de dessins & de grimaces\n17h30 / Entrée libre\nDécouvrez les gagnants des concours du festival\, dans une cérémonie joyeuse présidée par Séverine Vidal et animée par les Ratatameurs\, les enfants de l’école de musique Eclats de Musique et les associations Air & Co et Tempo Jazz ! \nCINÉMA > LES LÉGENDAIRES \n20h30 / À partir de 6 ans / 1h32\nLes Légendaires\, intrépides aventuriers\, étaient les plus grands héros de leur temps. Mais suite à une terrible malédiction\, les voilà redevenus… des enfants de 10 ans ! Ils vont unir leurs pouvoirs pour vaincre le sorcier Darkhell et libérer leur planète de l’enfance éternelle. Un film inspiré de la BD culte. \n  \nDIMANCHE 8 FÉVRIER \nCINÉMA > L’OURSE ET L’OISEAU\n10h / À partir de 3 ans / 41 min\nQuatre ours\, quatre contes\, quatre saisons : qu’ils soient immenses\, ensommeillés ou gourmands\, les ours savent aussi être tendres. Aux côtés de leurs amis\, ils vivent des aventures extraordinaires. \nCINÉMA > LES BEAUX JOURS (en présence de l’équipe du film)\n11h / À partir de 3 ans / 35 min\nMon papa travaille dans une exposition consacrée aux dinosaures mais ce métier l’ennuie profondément. Ce qu’il aime par-dessus tout\, c’est observer la nature changer au fil des saisons. Parfois\, il suffit d’une petite graine pour changer les choses ! Grâce à elle\, on peut cultiver un potager\, mais aussi faire grandir le jardin que l’on porte en soi. \nCINÉMA > LA FABRIQUE DES MONSTRES\n13h / À partir de 6 ans / 1h32\nDans le vieux château de Grottegroin\, un savant crée d’étranges monstres farfelus. P’tit Cousu\, sa toute première création oubliée avec le temps\, sert de guide aux nouveaux monstres. Jusqu’au jour où un cirque débarque en ville… \nCINÉMA > OLIVIA\n14h45 / À partir de 8 ans / 1h11\nÀ 12 ans\, Olivia voit son quotidien bouleversé du jour au lendemain. Elle va devoir vivre une vie plus modeste et veiller seule sur son petit frère Tim. Heureusement\, leur rencontre avec des voisins hauts en couleur va transformer leur monde en un vrai film d’aventure ! \nCINÉMA > SUPER CHARLIE\n16h15 / À partir de 4 ans / 1h30\nWill\, 10 ans\, rêve d’être un super-héros comme son père policier. L’arrivée de Charlie\, bébé doté de pouvoirs\, bouleverse tout. Quand un super-vilain lance un plan diabolique\, Will entraîne son frère pour sauver le monde ensemble\, malgré les dangers. \nCINÉMA > BISCUIT LE CHIEN FANTASTIQUE\n17h45 / À partir de 4 ans / 1h32\nDanny et son petit chien Biscuit sont les meilleurs amis du monde. Un jour\, une magie mystérieuse donne à Biscuit des pouvoirs incroyables : il peut désormais parler et voler ! Mais Pudding\, le chat du voisin\, lui aussi doté de super-pouvoirs\, rêve de faire régner les chats sur l’univers… \nCINÉMA > CHAO (Prix du Jury Annecy)\n19h15 / À partir de 5 ans / 1h30\nDans un monde où humains et sirènes coexistent\, Stephan\, un employé de bureau ordinaire fait la rencontre de ChaO\, une princesse du royaume des sirènes.  Qu’adviendra-t-il de leur improbable histoire d’amour ? \n  \n*************************************************************************************************** \nPendant tout le festival\nFlipper\, babyfoot\, jeux géants\, coin lecture\, jeux vidéo\, brochettes de bonbons\, crêpes et surprises dans hall de L’Entrepôt ! \n  \nInfos / réservations : \nL’Entrepôt / Cinéma – 13 rue Georges Clemenceau – 05 56 28 71 06 – www.lentrepot-lehaillan.fr\nBibliothèque – 30 rue de Los Heros – 05 57 93 11 31 – lalubi@ville-lehaillan.fr – https://lalubi.lehaillan.fr\nLudothèque – 58 rue Edmond Rostand – 05 57 81 87 21 \nTarif unique cinéma : 4€
URL:https://www.enfant-bordeaux.fr/agenda/ratatam-9eme-edition-du-31-janvier-au-8-fevrier-2026/
LOCATION:L’Entrepôt\, 13 rue Georges Clemenceau\, Le Haillan\, 33185
CATEGORIES:Sortie pour enfants et familles à Bordeaux Gironde
ATTACH;FMTTYPE=image/jpeg:https://www.enfant-bordeaux.fr/wp-content/uploads/2026/01/AfficheA3_Ratatam2026-scaled.jpg
ORGANIZER;CN="L'Entrep%C3%B4t":MAILTO:entrepot@ville-lehaillan.fr
GEO:44.8742355;-0.6768228
X-APPLE-STRUCTURED-LOCATION;VALUE=URI;X-ADDRESS=L’Entrepôt 13 rue Georges Clemenceau Le Haillan 33185;X-APPLE-RADIUS=500;X-TITLE=13 rue Georges Clemenceau:geo:-0.6768228,44.8742355
END:VEVENT
END:VCALENDAR