BEGIN:VCALENDAR
VERSION:2.0
PRODID:-//enfant-bordeaux.fr - ECPv6.15.20//NONSGML v1.0//EN
CALSCALE:GREGORIAN
METHOD:PUBLISH
X-WR-CALNAME:enfant-bordeaux.fr
X-ORIGINAL-URL:https://www.enfant-bordeaux.fr
X-WR-CALDESC:Évènements pour enfant-bordeaux.fr
REFRESH-INTERVAL;VALUE=DURATION:PT1H
X-Robots-Tag:noindex
X-PUBLISHED-TTL:PT1H
BEGIN:VTIMEZONE
TZID:Europe/Paris
BEGIN:DAYLIGHT
TZOFFSETFROM:+0100
TZOFFSETTO:+0200
TZNAME:CEST
DTSTART:20250330T010000
END:DAYLIGHT
BEGIN:STANDARD
TZOFFSETFROM:+0200
TZOFFSETTO:+0100
TZNAME:CET
DTSTART:20251026T010000
END:STANDARD
BEGIN:DAYLIGHT
TZOFFSETFROM:+0100
TZOFFSETTO:+0200
TZNAME:CEST
DTSTART:20260329T010000
END:DAYLIGHT
BEGIN:STANDARD
TZOFFSETFROM:+0200
TZOFFSETTO:+0100
TZNAME:CET
DTSTART:20261025T010000
END:STANDARD
BEGIN:DAYLIGHT
TZOFFSETFROM:+0100
TZOFFSETTO:+0200
TZNAME:CEST
DTSTART:20270328T010000
END:DAYLIGHT
BEGIN:STANDARD
TZOFFSETFROM:+0200
TZOFFSETTO:+0100
TZNAME:CET
DTSTART:20271031T010000
END:STANDARD
END:VTIMEZONE
BEGIN:VEVENT
DTSTART;TZID=Europe/Paris:20260209T100000
DTEND;TZID=Europe/Paris:20260210T160000
DTSTAMP:20260425T024823
CREATED:20260120T135414Z
LAST-MODIFIED:20260128T165519Z
UID:10034751-1770631200-1770739200@www.enfant-bordeaux.fr
SUMMARY:ZÈBRE ZEN : Stages lutte contre le harcèlement scolaire « La Récré c’est Sacré » – Martignas sur Jalle
DESCRIPTION:Stages de lutte contre le harcèlement scolaire\nLes stages La Récré c’est Sacré reviennent pour les vacances de février ! \n\n\n\n2 jours pour apprendre à : \n\n\n\n– Se défendre\n– Développer ses compétences physiques\n– Apprendre des techniques de dégagement et de protection\n– Avoir de la répartie et de l’humour\n– Booster sa confiance en soi\n\n– Améliorer son agilité émotionnelle \n\n\n9 et 10 février – de 8 ans à 11 ans – MARTIGNAS SUR JALLE\n\n\n\nJe vous retrouve avec Grégory de l’ ASM Judo Jujitsu Taiso et Judo Biganos\n\n\n\n\n\nA retrouver sur le site (lien en dessous)\nZèbre Zen « la récré c’est sacré »
URL:https://www.enfant-bordeaux.fr/agenda/stages-lutte-contre-le-harcelement-scolaire-la-recre-cest-sacre-martignas-sur-jalle/
LOCATION:Maison des arts martiaux Lucie Decosse\, 14 Avenue de Verdun\, Martignas-sur-Jalle\, 33127\, France
CATEGORIES:7-11 ans,Plus de 7 ans
ATTACH;FMTTYPE=image/jpeg:https://www.enfant-bordeaux.fr/wp-content/uploads/2026/01/Recre-Sacree-Saffirmer-et-se-defendre-Publication-Facebook-e1768922578349.jpg
ORGANIZER;CN="Ang%C3%A9lique Stock - Z%C3%A8bre Zen":MAILTO:angelique@harcelement-intimidation.fr
END:VEVENT
END:VCALENDAR