BEGIN:VCALENDAR
VERSION:2.0
PRODID:-//enfant-bordeaux.fr - ECPv6.15.20//NONSGML v1.0//EN
CALSCALE:GREGORIAN
METHOD:PUBLISH
X-ORIGINAL-URL:https://www.enfant-bordeaux.fr
X-WR-CALDESC:Évènements pour enfant-bordeaux.fr
REFRESH-INTERVAL;VALUE=DURATION:PT1H
X-Robots-Tag:noindex
X-PUBLISHED-TTL:PT1H
BEGIN:VTIMEZONE
TZID:Europe/Paris
BEGIN:DAYLIGHT
TZOFFSETFROM:+0100
TZOFFSETTO:+0200
TZNAME:CEST
DTSTART:20250330T010000
END:DAYLIGHT
BEGIN:STANDARD
TZOFFSETFROM:+0200
TZOFFSETTO:+0100
TZNAME:CET
DTSTART:20251026T010000
END:STANDARD
BEGIN:DAYLIGHT
TZOFFSETFROM:+0100
TZOFFSETTO:+0200
TZNAME:CEST
DTSTART:20260329T010000
END:DAYLIGHT
BEGIN:STANDARD
TZOFFSETFROM:+0200
TZOFFSETTO:+0100
TZNAME:CET
DTSTART:20261025T010000
END:STANDARD
BEGIN:DAYLIGHT
TZOFFSETFROM:+0100
TZOFFSETTO:+0200
TZNAME:CEST
DTSTART:20270328T010000
END:DAYLIGHT
BEGIN:STANDARD
TZOFFSETFROM:+0200
TZOFFSETTO:+0100
TZNAME:CET
DTSTART:20271031T010000
END:STANDARD
END:VTIMEZONE
BEGIN:VEVENT
DTSTART;TZID=Europe/Paris:20260212T150000
DTEND;TZID=Europe/Paris:20260212T163000
DTSTAMP:20260425T133154
CREATED:20260207T151801Z
LAST-MODIFIED:20260210T141850Z
UID:10034851-1770908400-1770913800@www.enfant-bordeaux.fr
SUMMARY:Jouer et s’amuser avec le marc de café
DESCRIPTION:Découvrez comment utiliser le marc de café de manière ludique et créative ! \nAu programme\,  fabrication d’une pâte à modeler à base de marc et création d’une carte au trésor et une surprise ! \nChaque enfant repartira avec ses productions ! \nRendez-vous les jeudis 12 et 19 février de 15h à 16h30 \nPrix: 30€ \nLieu: Boutique Origines Tea and Coffee\, 51 rue des Trois Conils 33000 Bordeaux
URL:https://www.enfant-bordeaux.fr/agenda/jouer-et-samuser-avec-le-marc-de-cafe/
LOCATION:Origines Tea and Coffee\, 51 rue des Trois Conils 33000 Bordeaux\, 51 rue des 3 Conils\, Bordeaux\, 33000\, France
CATEGORIES:4-15 ans,Enfants
ORGANIZER;CN="Origines":MAILTO:originestc.lea@gmail.com
END:VEVENT
END:VCALENDAR