BEGIN:VCALENDAR
VERSION:2.0
PRODID:-//enfant-bordeaux.fr - ECPv6.15.20//NONSGML v1.0//EN
CALSCALE:GREGORIAN
METHOD:PUBLISH
X-ORIGINAL-URL:https://www.enfant-bordeaux.fr
X-WR-CALDESC:Évènements pour enfant-bordeaux.fr
REFRESH-INTERVAL;VALUE=DURATION:PT1H
X-Robots-Tag:noindex
X-PUBLISHED-TTL:PT1H
BEGIN:VTIMEZONE
TZID:Europe/Paris
BEGIN:DAYLIGHT
TZOFFSETFROM:+0100
TZOFFSETTO:+0200
TZNAME:CEST
DTSTART:20250330T010000
END:DAYLIGHT
BEGIN:STANDARD
TZOFFSETFROM:+0200
TZOFFSETTO:+0100
TZNAME:CET
DTSTART:20251026T010000
END:STANDARD
BEGIN:DAYLIGHT
TZOFFSETFROM:+0100
TZOFFSETTO:+0200
TZNAME:CEST
DTSTART:20260329T010000
END:DAYLIGHT
BEGIN:STANDARD
TZOFFSETFROM:+0200
TZOFFSETTO:+0100
TZNAME:CET
DTSTART:20261025T010000
END:STANDARD
BEGIN:DAYLIGHT
TZOFFSETFROM:+0100
TZOFFSETTO:+0200
TZNAME:CEST
DTSTART:20270328T010000
END:DAYLIGHT
BEGIN:STANDARD
TZOFFSETFROM:+0200
TZOFFSETTO:+0100
TZNAME:CET
DTSTART:20271031T010000
END:STANDARD
END:VTIMEZONE
BEGIN:VEVENT
DTSTART;TZID=Europe/Paris:20260216T100000
DTEND;TZID=Europe/Paris:20260220T163000
DTSTAMP:20260425T023213
CREATED:20260106T160404Z
LAST-MODIFIED:20260120T093512Z
UID:10034033-1771236000-1771605000@www.enfant-bordeaux.fr
SUMMARY:FABULA LUNA : STAGE DE THÉÂTRE VACANCES D'HIVER 2026
DESCRIPTION:STAGE THÉÂTRE ENFANTS et ADOS  – 7 à 14 ans – VACANCES d’HIVER \n Du 16 au 20 février 2026 \nLa Compagnie Fabula Luna accueillera vos enfants et ados dans le cadre chaleureux d’un petit théâtre de poche durant cinq jours ludiques et créatifs. \nDans une atmosphère bienveillante\, vos jeunes comédiens en herbe découvriront ou approfondiront l’art de la scène. \nL’occasion également de renforcer leur confiance en eux\, tout en développant leurs compétences artistiques et leurs capacités d’expression. \n\nPROGRAMME : \nLe matin : Technique corporelle\, travail de la voix\, de la mémoire et des émotions\,  improvisations et travail de groupe \nL’après-midi : Entrer dans une mise en scène\, mémoriser un texte\, construire et interpréter des personnages et découvrir différents types de jeu. \nReprésentation finale le dernier jour à 16h devant les familles/amis\, suivie d’un moment convivial autour d’un goûter offert pour tous ! \n\nDATE : Du 16 au 20 février 2026 (soit 5 jours) / 2 ème semaine des vacances \nHORAIRE : De 10h à 16h30 \nLIEU : Au Studio Théâtre 71  – 71 Cours Edouard Vaillant Bordeaux – Tram B / Arrêt les Hangars \n\nPour le midi\, les participant.e.s amènent leur repas (Réfrigérateur et micro-ondes sur place) + gourde d’eau + goûters pour matin et après-midi. \nMerci de venir avec une tenue souple et confortable et des chaussettes ou chaussures type rythmiques pour le plateau. \n\nRÉSERVATIONS : \nTéléphone: 06 64 89 44 54       Mail: fabulaluna33@gmail.com \nLien HelloAsso: https://www.helloasso.com/associations/fabula-luna/evenements/stage-de-theatre-vacances-d-hiver-2025-2026 \nATTENTION : Bien vérifier auprès de la Compagnie la disponibilité des places\, AVANT tout paiement !\nsur réservation \n 
URL:https://www.enfant-bordeaux.fr/agenda/stage-de-theatre-vacances-dhiver-2026/
LOCATION:Studio Théatre 71\, 71 COURS EDOUARD VAILLANT\, BORDEAUX\, 33300
CATEGORIES:Enfants,Plus de 7 ans
ATTACH;FMTTYPE=image/png:https://www.enfant-bordeaux.fr/wp-content/uploads/2026/01/croppedimage-cfe2361a07894aa1b125a8d4adc4eb9d.png
ORGANIZER;CN="Compagnie Fabula Luna":MAILTO:fabulaluna33@gmail.com
END:VEVENT
END:VCALENDAR