BEGIN:VCALENDAR
VERSION:2.0
PRODID:-//enfant-bordeaux.fr - ECPv6.15.20//NONSGML v1.0//EN
CALSCALE:GREGORIAN
METHOD:PUBLISH
X-ORIGINAL-URL:https://www.enfant-bordeaux.fr
X-WR-CALDESC:Évènements pour enfant-bordeaux.fr
REFRESH-INTERVAL;VALUE=DURATION:PT1H
X-Robots-Tag:noindex
X-PUBLISHED-TTL:PT1H
BEGIN:VTIMEZONE
TZID:Europe/Paris
BEGIN:DAYLIGHT
TZOFFSETFROM:+0100
TZOFFSETTO:+0200
TZNAME:CEST
DTSTART:20250330T010000
END:DAYLIGHT
BEGIN:STANDARD
TZOFFSETFROM:+0200
TZOFFSETTO:+0100
TZNAME:CET
DTSTART:20251026T010000
END:STANDARD
BEGIN:DAYLIGHT
TZOFFSETFROM:+0100
TZOFFSETTO:+0200
TZNAME:CEST
DTSTART:20260329T010000
END:DAYLIGHT
BEGIN:STANDARD
TZOFFSETFROM:+0200
TZOFFSETTO:+0100
TZNAME:CET
DTSTART:20261025T010000
END:STANDARD
BEGIN:DAYLIGHT
TZOFFSETFROM:+0100
TZOFFSETTO:+0200
TZNAME:CEST
DTSTART:20270328T010000
END:DAYLIGHT
BEGIN:STANDARD
TZOFFSETFROM:+0200
TZOFFSETTO:+0100
TZNAME:CET
DTSTART:20271031T010000
END:STANDARD
END:VTIMEZONE
BEGIN:VEVENT
DTSTART;TZID=Europe/Paris:20260117T173000
DTEND;TZID=Europe/Paris:20260117T210000
DTSTAMP:20260425T024849
CREATED:20260116T154916Z
LAST-MODIFIED:20260116T155528Z
UID:10034452-1768671000-1768683600@www.enfant-bordeaux.fr
SUMMARY:Course orientation nocturne – Enigmes et sortilèges
DESCRIPTION:Le Cercle vous présente la course d’orientation nocturne 2026 \nAu programme énigmes et sortilèges 🪄😝 \n👀 N’hésitez pas à vous inscrire et commencez à créer votre équipe de 4-5 pers max avec un adulte obligatoire :). Si vous êtes seul(e)\, on vous intégrera dans une équipe. \nINSCRIPTION FORTEMENT CONSEILLÉE\, en cliquant sur le lien suivant : https://urls.fr/pz4niI \nDépart de la course au tennis club house 83 route de Pessac à Gradignan vers 18h le samedi 17 janvier. Accueil à partir de 17h30 : accessible à tous\, en famille\, prévoyez une tenue chaude avec gilet jaune\, une lampe frontale\, un téléphone pour retrouver les balises et énigmes.
URL:https://www.enfant-bordeaux.fr/agenda/course-orientation-nocturne-enigmes-et-sortileges/
LOCATION:Tennis Club Gradignan\, 83 Route de Pessac\, Gradignan\, 33170
CATEGORIES:Activité pour enfants à Bordeaux et familles
ATTACH;FMTTYPE=image/jpeg:https://www.enfant-bordeaux.fr/wp-content/uploads/2026/01/1000029594-1.jpg
ORGANIZER;CN="Cercle de Gradignan (caf%C3%A9 associatif)":MAILTO:Cercledegradoch@gmail.com
END:VEVENT
END:VCALENDAR