BEGIN:VCALENDAR
VERSION:2.0
PRODID:-//enfant-bordeaux.fr - ECPv6.15.20//NONSGML v1.0//EN
CALSCALE:GREGORIAN
METHOD:PUBLISH
X-WR-CALNAME:enfant-bordeaux.fr
X-ORIGINAL-URL:https://www.enfant-bordeaux.fr
X-WR-CALDESC:Évènements pour enfant-bordeaux.fr
REFRESH-INTERVAL;VALUE=DURATION:PT1H
X-Robots-Tag:noindex
X-PUBLISHED-TTL:PT1H
BEGIN:VTIMEZONE
TZID:Europe/Paris
BEGIN:DAYLIGHT
TZOFFSETFROM:+0100
TZOFFSETTO:+0200
TZNAME:CEST
DTSTART:20250330T010000
END:DAYLIGHT
BEGIN:STANDARD
TZOFFSETFROM:+0200
TZOFFSETTO:+0100
TZNAME:CET
DTSTART:20251026T010000
END:STANDARD
BEGIN:DAYLIGHT
TZOFFSETFROM:+0100
TZOFFSETTO:+0200
TZNAME:CEST
DTSTART:20260329T010000
END:DAYLIGHT
BEGIN:STANDARD
TZOFFSETFROM:+0200
TZOFFSETTO:+0100
TZNAME:CET
DTSTART:20261025T010000
END:STANDARD
BEGIN:DAYLIGHT
TZOFFSETFROM:+0100
TZOFFSETTO:+0200
TZNAME:CEST
DTSTART:20270328T010000
END:DAYLIGHT
BEGIN:STANDARD
TZOFFSETFROM:+0200
TZOFFSETTO:+0100
TZNAME:CET
DTSTART:20271031T010000
END:STANDARD
END:VTIMEZONE
BEGIN:VEVENT
DTSTART;TZID=Europe/Paris:20260208T143000
DTEND;TZID=Europe/Paris:20260208T180000
DTSTAMP:20260425T041814
CREATED:20260118T201628Z
LAST-MODIFIED:20260118T201628Z
UID:10034454-1770561000-1770573600@www.enfant-bordeaux.fr
SUMMARY:Loto enfants Collectif Floiracais Danielle Mitterrand 2026
DESCRIPTION:L’association Collection Floiracais Danielle Mitterrand organise sa septième édition…..\n** LOTO ENFANTS ***\nLe….. 10….. le 58….. le 24…… « PIOUUUUUUUUU » !\nVoici une après midi à noter dans vos agendas.Pour notre plus grand plaisir\, il a remporté un franc succès les années précédentes …..Notre loto enfants revient le:DIMANCHE 8 Février\, à l’espace Lucie Aubrac 35 rue Léo Lagrange Floirac.Ouverture des portes à 13h30 et début du jeu à 14h30\nVenez vous amusez avec nous !!\nUn loto pour les enfants\, afin de jouer comme les grands.A partir de 3 ans.De superbes lots à gagner avec des jeux de sociétés\, Nintendo switch\, place de spectacles\, surprises….\nEn attendant…. entraînez vous à crier PIOUUUUUUU !\nAttention réservation conseillée:06.99.00.97.87\nAu plaisir de partager cet après midi ensemble.Les enfants sont sous la surveillances des parents\, merci de votre compréhension
URL:https://www.enfant-bordeaux.fr/agenda/loto-enfants-collectif-floiracais-danielle-mitterrand-2026/
LOCATION:salle lucie 35 rue léo lagrange 33270 floirac
CATEGORIES:3-4 ans,4-15 ans,Activité pour enfants à Bordeaux et familles
ATTACH;FMTTYPE=image/jpeg:https://www.enfant-bordeaux.fr/wp-content/uploads/2026/01/616307376_1295471252610270_207920967896963913_n.jpg
ORGANIZER;CN="association collectif FloiracaisDanielle Mitterrand":MAILTO:apecfdm@gmail.com
END:VEVENT
END:VCALENDAR