BEGIN:VCALENDAR
VERSION:2.0
PRODID:-//enfant-bordeaux.fr - ECPv6.15.20//NONSGML v1.0//EN
CALSCALE:GREGORIAN
METHOD:PUBLISH
X-WR-CALNAME:enfant-bordeaux.fr
X-ORIGINAL-URL:https://www.enfant-bordeaux.fr
X-WR-CALDESC:Évènements pour enfant-bordeaux.fr
REFRESH-INTERVAL;VALUE=DURATION:PT1H
X-Robots-Tag:noindex
X-PUBLISHED-TTL:PT1H
BEGIN:VTIMEZONE
TZID:Europe/Paris
BEGIN:DAYLIGHT
TZOFFSETFROM:+0100
TZOFFSETTO:+0200
TZNAME:CEST
DTSTART:20250330T010000
END:DAYLIGHT
BEGIN:STANDARD
TZOFFSETFROM:+0200
TZOFFSETTO:+0100
TZNAME:CET
DTSTART:20251026T010000
END:STANDARD
BEGIN:DAYLIGHT
TZOFFSETFROM:+0100
TZOFFSETTO:+0200
TZNAME:CEST
DTSTART:20260329T010000
END:DAYLIGHT
BEGIN:STANDARD
TZOFFSETFROM:+0200
TZOFFSETTO:+0100
TZNAME:CET
DTSTART:20261025T010000
END:STANDARD
BEGIN:DAYLIGHT
TZOFFSETFROM:+0100
TZOFFSETTO:+0200
TZNAME:CEST
DTSTART:20270328T010000
END:DAYLIGHT
BEGIN:STANDARD
TZOFFSETFROM:+0200
TZOFFSETTO:+0100
TZNAME:CET
DTSTART:20271031T010000
END:STANDARD
END:VTIMEZONE
BEGIN:VEVENT
DTSTART;TZID=Europe/Paris:20260404T160000
DTEND;TZID=Europe/Paris:20260412T160000
DTSTAMP:20260425T010553
CREATED:20260306T101358Z
LAST-MODIFIED:20260408T151935Z
UID:10035095-1775318400-1776009600@www.enfant-bordeaux.fr
SUMMARY:Guignol Guerin - En avant l'amusement !
DESCRIPTION:Spectacles pour enfants et familles\, théâtre de marionnettes du Guignol Guérin\, en plein centre de Bordeaux\, à l’Inox\, pour les vacances de Printemps !\n\n\nSpectacles de marionnettes du célèbre Guignol Bordelais pour les vacances de Printemps\nDu 4 au 12 Avril 2026 au théâtre l’Inox (Bordeaux centre)\nPendant les vacances de Printemps\, le Guignol Guérin\, le théâtre de marionnettes le plus ancien de France\, se produira à l’Inox\, au coeur du vieux Bordeaux\, entre la Place de la Bourse et la Place du Parlement. \nEn effet cette institution bordelaise\, fondée en 1853\, y présentera ses spectacles comiques et risibles dans la pure tradition du Guignol Lyonnais (au répertoire basé sur la vie de tous les jours). \n\n		\n		\n			\n				\n			\n			\n				\n			\n			\n				\n			\n		\n\nLa sixième génération de la famille GUERIN vous accueille pour un véritable moment convivial de théâtre vivant et tous publics ! Vous partagerez en outre sa passion de l’art de la marionnette et pourrez échanger sur cet univers intemporel ! \nInfos pratiques\n\nTous les jours du 4 au 12 avril\nTous publics\, en direct et interactif !\nPlusieurs pièces présentées – répertoire traditionnel\nà 16h\nDurée d’une séance : 30 minutes + échange avec le public.\nTarif : 7 € par personne (pas de CB)\nPlaces limitées\nRéservation par téléphone au 06 70 97 44 52 ou sur guignolguerin.fr\n\n\n\nVideo : \n\nhttps://youtu.be/_50h_J04qk4
URL:https://www.enfant-bordeaux.fr/agenda/guignol-guerin-en-avant-lamusement/
LOCATION:Théâtre L’Inox\, 11 rue Fernand Philippart\, Bordeaux\, 33000
CATEGORIES:3-4 ans,4-15 ans,4-6 ans,5-6 ans,6-12 ans,7-11 ans,7-12 ans,Spectacle pour enfants - Bordeaux familles
ATTACH;FMTTYPE=image/jpeg:https://www.enfant-bordeaux.fr/wp-content/uploads/2026/03/Colorful-Modern-Bold-Flowers-Illustration-Spring-Picnic-Flyer-2.jpg
ORGANIZER;CN="GUIGNOL GUERIN":MAILTO:guignoldg@free.fr
END:VEVENT
END:VCALENDAR