BEGIN:VCALENDAR
VERSION:2.0
PRODID:-//enfant-bordeaux.fr - ECPv6.15.20//NONSGML v1.0//EN
CALSCALE:GREGORIAN
METHOD:PUBLISH
X-ORIGINAL-URL:https://www.enfant-bordeaux.fr
X-WR-CALDESC:Évènements pour enfant-bordeaux.fr
REFRESH-INTERVAL;VALUE=DURATION:PT1H
X-Robots-Tag:noindex
X-PUBLISHED-TTL:PT1H
BEGIN:VTIMEZONE
TZID:Europe/Paris
BEGIN:DAYLIGHT
TZOFFSETFROM:+0100
TZOFFSETTO:+0200
TZNAME:CEST
DTSTART:20250330T010000
END:DAYLIGHT
BEGIN:STANDARD
TZOFFSETFROM:+0200
TZOFFSETTO:+0100
TZNAME:CET
DTSTART:20251026T010000
END:STANDARD
BEGIN:DAYLIGHT
TZOFFSETFROM:+0100
TZOFFSETTO:+0200
TZNAME:CEST
DTSTART:20260329T010000
END:DAYLIGHT
BEGIN:STANDARD
TZOFFSETFROM:+0200
TZOFFSETTO:+0100
TZNAME:CET
DTSTART:20261025T010000
END:STANDARD
BEGIN:DAYLIGHT
TZOFFSETFROM:+0100
TZOFFSETTO:+0200
TZNAME:CEST
DTSTART:20270328T010000
END:DAYLIGHT
BEGIN:STANDARD
TZOFFSETFROM:+0200
TZOFFSETTO:+0100
TZNAME:CET
DTSTART:20271031T010000
END:STANDARD
END:VTIMEZONE
BEGIN:VEVENT
DTSTART;TZID=Europe/Paris:20260413T140000
DTEND;TZID=Europe/Paris:20260416T170000
DTSTAMP:20260425T024737
CREATED:20260328T154432Z
LAST-MODIFIED:20260328T154438Z
UID:10035460-1776088800-1776358800@www.enfant-bordeaux.fr
SUMMARY:Stage architecture 8-15 ans
DESCRIPTION:sensibilisation à l’architecture et à la ville
URL:https://www.enfant-bordeaux.fr/agenda/stage-architecture-8-15-ans/
LOCATION:125 cours journu auber \, bordeaux\, 125 cours Journu Auber\, Bordeaux\, 33300
CATEGORIES:7-12 ans,Activité pour enfants à Bordeaux et familles,Plus de 11 ans,Plus de 7 ans
ATTACH;FMTTYPE=image/jpeg:https://www.enfant-bordeaux.fr/wp-content/uploads/2026/03/vignettes-dates-22-1.jpeg
ORGANIZER;CN="marie buhler architecte":MAILTO:mariebuhlerarchitecte@gmail.com
END:VEVENT
BEGIN:VEVENT
DTSTART;TZID=Europe/Paris:20260209T140000
DTEND;TZID=Europe/Paris:20260213T170000
DTSTAMP:20260425T024737
CREATED:20251230T162822Z
LAST-MODIFIED:20251230T162822Z
UID:10034029-1770645600-1771002000@www.enfant-bordeaux.fr
SUMMARY:stage architecture pour les enfants
DESCRIPTION:sensibilisation à l’architecture et à la ville pour les enfants
URL:https://www.enfant-bordeaux.fr/agenda/stage-architecture-pour-les-enfants/
LOCATION:125 cours journu auber \, bordeaux\, 125 cours Journu Auber\, Bordeaux\, 33300
CATEGORIES:Plus de 7 ans
ATTACH;FMTTYPE=image/jpeg:https://www.enfant-bordeaux.fr/wp-content/uploads/2025/12/stage-fevrier.jpg
ORGANIZER;CN="marie buhler architecte":MAILTO:mariebuhlerarchitecte@gmail.com
END:VEVENT
END:VCALENDAR