BEGIN:VCALENDAR
VERSION:2.0
PRODID:-//enfant-bordeaux.fr - ECPv6.15.20//NONSGML v1.0//EN
CALSCALE:GREGORIAN
METHOD:PUBLISH
X-WR-CALNAME:enfant-bordeaux.fr
X-ORIGINAL-URL:https://www.enfant-bordeaux.fr
X-WR-CALDESC:Évènements pour enfant-bordeaux.fr
REFRESH-INTERVAL;VALUE=DURATION:PT1H
X-Robots-Tag:noindex
X-PUBLISHED-TTL:PT1H
BEGIN:VTIMEZONE
TZID:Europe/Paris
BEGIN:DAYLIGHT
TZOFFSETFROM:+0100
TZOFFSETTO:+0200
TZNAME:CEST
DTSTART:20250330T010000
END:DAYLIGHT
BEGIN:STANDARD
TZOFFSETFROM:+0200
TZOFFSETTO:+0100
TZNAME:CET
DTSTART:20251026T010000
END:STANDARD
BEGIN:DAYLIGHT
TZOFFSETFROM:+0100
TZOFFSETTO:+0200
TZNAME:CEST
DTSTART:20260329T010000
END:DAYLIGHT
BEGIN:STANDARD
TZOFFSETFROM:+0200
TZOFFSETTO:+0100
TZNAME:CET
DTSTART:20261025T010000
END:STANDARD
BEGIN:DAYLIGHT
TZOFFSETFROM:+0100
TZOFFSETTO:+0200
TZNAME:CEST
DTSTART:20270328T010000
END:DAYLIGHT
BEGIN:STANDARD
TZOFFSETFROM:+0200
TZOFFSETTO:+0100
TZNAME:CET
DTSTART:20271031T010000
END:STANDARD
END:VTIMEZONE
BEGIN:VEVENT
DTSTART;TZID=Europe/Paris:20260328T093000
DTEND;TZID=Europe/Paris:20260328T113000
DTSTAMP:20260425T024706
CREATED:20260304T094258Z
LAST-MODIFIED:20260304T094524Z
UID:10035081-1774690200-1774697400@www.enfant-bordeaux.fr
SUMMARY:Atelier yoga parent enfant
DESCRIPTION:Ton enfant a du mal à rester en place ou à gérer ses émotions? Et si le yoga pouvait l’aider à canaliser toute cette énergie? \nViens découvrir le yoga adapté aux jeunes enfants. On explore le mouvement en jouant grâce à des postures simples\, des objets sensoriels (balles picot\, foulards\, plumes) mais aussi des jeux de respiration et de massage. \nUn vrai moment de complicité et de détente avec ton enfant! \nsamedi 28 Mars​​​​9h30 – 10h15 de 6 mois à 3 ans10h30 – 11h15 de 3 à 6 ansEspace Cocoon à Cestas​​​​​20€ le duo parent enfant (25€ le trio) \nA la fin de la séance\, votre enfant repartira avec son diplôme du petit Yogi et vous avec une routine simple à refaire à la maison ​​​! \nRéserve vite\, places limités! https://www.billetweb.fr/atelier-parent-enfant-yoga-a-cestas1\n\nContact : 06 35 30 66 84\nnadege.parentalite.liberee@gmail.com\n\nNadège GROSSIN (Parentalité Libérée)\nEducatrice de Jeunes Enfants Formée au Yoga enfant\nAccompagnante Parentale (33)
URL:https://www.enfant-bordeaux.fr/agenda/atelier-yoga-parent-enfant/
LOCATION:espace cocoon Cestas\, 25 place choisy latour\, 33610\, Cestas
CATEGORIES:0-2 ans,3-4 ans,4-6 ans,Activité pour enfants à Bordeaux et familles
ATTACH;FMTTYPE=image/jpeg:https://www.enfant-bordeaux.fr/wp-content/uploads/2026/03/20260111_115352-scaled.jpg
ORGANIZER;CN="Nad%C3%A8ge Parentalit%C3%A9 Lib%C3%A9r%C3%A9e":MAILTO:nadege.parentalite.liberee@gmail.com
END:VEVENT
BEGIN:VEVENT
DTSTART;TZID=Europe/Paris:20260214T093000
DTEND;TZID=Europe/Paris:20260214T113000
DTSTAMP:20260425T024706
CREATED:20260120T085603Z
LAST-MODIFIED:20260120T085603Z
UID:10034465-1771061400-1771068600@www.enfant-bordeaux.fr
SUMMARY:Yoga parent enfant des émotions
DESCRIPTION:Explorez le mouvement en jouant avec votre enfant grâce à des postures simples​\, des jeux de respiration et de massage ​.​\nCe mois-ci\, la routine sera sur le thème des émotions ​\, pour nommer et aider votre enfant à mieux comprendre les émotions grâce à des cartes et objets sensoriels (balles picot\, foulards\, plumes)…\n\n​samedi 14 Février​​​​9h30 – 10h15 de 6 mois à 3 ans10h30 – 11h15 de 3 à 6 ansEspace Cocoon à Cestas​​​​​20€ le duo parent enfant (25€ le trio)\n\nCette activité favorise l’éveil corporel et sensoriel de l’enfant ainsi que la concentration et la confiance en soi\, gestion des émotions…\nA la fin de la séance\, votre enfant repartira avec son diplôme du petit Yogi et vous avec une routine simple à refaire à la maison ​​​!\n\nVenez partagez un vrai moment de complicité et de détente avec votre enfant ! ​​​​​​​​​ (en cas de fratrie\, choisissez le groupe d’âge du plus petit)\nRéserve vite\, places limités à 6 duos par séance! https://www.billetweb.fr/atelier-parent-enfant-yoga-a-cestas1\n\nContact : 06 35 30 66 84\nnadege.parentalite.liberee@gmail.com\n\nNadège Parentalité Libérée\nEducatrice de Jeunes Enfants\nAccompagnante Parentale (33)
URL:https://www.enfant-bordeaux.fr/agenda/yoga-parent-enfant-des-emotions/
LOCATION:espace cocoon Cestas\, 25 place choisy latour\, 33610\, Cestas
CATEGORIES:0-2 ans,3-4 ans,4-6 ans,Activité pour enfants à Bordeaux et familles
ATTACH;FMTTYPE=image/jpeg:https://www.enfant-bordeaux.fr/wp-content/uploads/2026/01/WhatsApp-Image-2024-08-05-at-15.54.59.jpeg
ORGANIZER;CN="Nad%C3%A8ge Parentalit%C3%A9 Lib%C3%A9r%C3%A9e":MAILTO:nadege.parentalite.liberee@gmail.com
END:VEVENT
END:VCALENDAR